BEGIN:VCALENDAR
VERSION:2.0
PRODID:-//EUDEL Noticias | Asociación de Municipios Vascos - ECPv6.5.1.3//NONSGML v1.0//EN
CALSCALE:GREGORIAN
METHOD:PUBLISH
X-ORIGINAL-URL:https://noticias.eudel.eus/eu
X-WR-CALDESC:Events for EUDEL Noticias | Asociación de Municipios Vascos
REFRESH-INTERVAL;VALUE=DURATION:PT1H
X-Robots-Tag:noindex
X-PUBLISHED-TTL:PT1H
BEGIN:VTIMEZONE
TZID:Europe/Madrid
BEGIN:DAYLIGHT
TZOFFSETFROM:+0100
TZOFFSETTO:+0200
TZNAME:CEST
DTSTART:20210328T010000
END:DAYLIGHT
BEGIN:STANDARD
TZOFFSETFROM:+0200
TZOFFSETTO:+0100
TZNAME:CET
DTSTART:20211031T010000
END:STANDARD
END:VTIMEZONE
BEGIN:VEVENT
DTSTART;TZID=Europe/Madrid:20210519T093000
DTEND;TZID=Europe/Madrid:20210519T100000
DTSTAMP:20260422T152659
CREATED:20210514T125828Z
LAST-MODIFIED:20210514T125828Z
UID:21560-1621416600-1621418400@noticias.eudel.eus
SUMMARY:[:es]Comisión de Ordenación del Territorio del País Vasco.[:eu]Euskal Autonomia Erkidegoko Lurralde Antolamendurako Batzordea[:]
DESCRIPTION:
URL:https://noticias.eudel.eus/eu/evento/comision-de-ordenacion-del-territorio-del-pais-vasco-3/
LOCATION:Bideokonferentziaren bitartez bilera
END:VEVENT
BEGIN:VEVENT
DTSTART;TZID=Europe/Madrid:20210519T100000
DTEND;TZID=Europe/Madrid:20210519T103000
DTSTAMP:20260422T152659
CREATED:20210514T130005Z
LAST-MODIFIED:20210514T130005Z
UID:21562-1621418400-1621420200@noticias.eudel.eus
SUMMARY:[:es]Comisión Ordenación del Territorio del País Vasco. Álava.[:eu]Euskal Autonomia Erkidegoko Lurralde Antolamendurako Batzordea. Araba.[:]
DESCRIPTION:
URL:https://noticias.eudel.eus/eu/evento/comision-ordenacion-del-territorio-del-pais-vasco-alava/
LOCATION:Bideokonferentziaren bitartez bilera
END:VEVENT
BEGIN:VEVENT
DTSTART;TZID=Europe/Madrid:20210519T100000
DTEND;TZID=Europe/Madrid:20210519T103000
DTSTAMP:20260422T152659
CREATED:20210514T130146Z
LAST-MODIFIED:20210514T130146Z
UID:21564-1621418400-1621420200@noticias.eudel.eus
SUMMARY:[:es]Comisión de Ordenación del Territorio del País Vasco. Bizkaia[:eu]Euskal Autonomia Erkidegoko Lurralde Antolamendurako Batzordea. Bizkaia[:]
DESCRIPTION:
URL:https://noticias.eudel.eus/eu/evento/comision-de-ordenacion-del-territorio-del-pais-vasco-bizkaia-5/
LOCATION:Bideokonferentziaren bitartez bilera
END:VEVENT
BEGIN:VEVENT
DTSTART;TZID=Europe/Madrid:20210519T100000
DTEND;TZID=Europe/Madrid:20210519T113000
DTSTAMP:20260422T152659
CREATED:20210514T123719Z
LAST-MODIFIED:20210514T123719Z
UID:21555-1621418400-1621423800@noticias.eudel.eus
SUMMARY:[:es]Consejo Vasco de Participación de Víctimas de terrorismo[:eu]Terrorismoaren Biktimen Partaidetzarako Euskal Kontseilua[:]
DESCRIPTION:
URL:https://noticias.eudel.eus/eu/evento/consejo-vasco-de-participacion-de-victimas-de-terrorismo/
END:VEVENT
BEGIN:VEVENT
DTSTART;TZID=Europe/Madrid:20210519T113000
DTEND;TZID=Europe/Madrid:20210519T130000
DTSTAMP:20260422T152659
CREATED:20210513T064436Z
LAST-MODIFIED:20210513T065848Z
UID:21533-1621423800-1621429200@noticias.eudel.eus
SUMMARY:[:es]Bilboko Udaletxean. Webinar SUM mugikortasun jasangarria. Irungo esperientzia.[:eu]Bilboko Udaletxean. Webinar SUM mugikortasun jasangarria. Irungo esperientzia.[:]
DESCRIPTION:MAITZAK 19\, 11.30\, Bilboko Udaletxeko Arabiar Aretoan \nInfo+ Izena-ematea: www.sumbilbao.com \nForoa + mahai-ingurua : “Berrikuntza pertsonen garraio masiboan” \n*Anfitrioi: Alfonso Gil\, Bilboko mugikortasunerako alkateaordea \nBorja Olazabal\, Garapen Iraunkorra\, Mugikortasun eta Kiroleko Zinegotzi Ordezkaria. Irungo Udala. \nAntoni Poveda\, San Joan Despiko alkatea\, Bartzelonako garraio metopolitarraren agintaritzaren presidenteordea \nAndrés Galnares\, H2SITE CEO \nBoyd Cohen\, IoMob CEO
URL:https://noticias.eudel.eus/eu/evento/ayto-bilbao-foro-1-sum-movilidad-sostenible-experiencia-irun/
LOCATION:Bilboko udala / Ayto. Bilbao\, Bilbao\, Bizkaia\, 48007\, España
END:VEVENT
END:VCALENDAR