BEGIN:VCALENDAR
VERSION:2.0
PRODID:-//EUDEL Noticias | Asociación de Municipios Vascos - ECPv6.5.1.3//NONSGML v1.0//EN
CALSCALE:GREGORIAN
METHOD:PUBLISH
X-ORIGINAL-URL:https://noticias.eudel.eus/eu
X-WR-CALDESC:Events for EUDEL Noticias | Asociación de Municipios Vascos
REFRESH-INTERVAL;VALUE=DURATION:PT1H
X-Robots-Tag:noindex
X-PUBLISHED-TTL:PT1H
BEGIN:VTIMEZONE
TZID:Europe/Madrid
BEGIN:DAYLIGHT
TZOFFSETFROM:+0100
TZOFFSETTO:+0200
TZNAME:CEST
DTSTART:20210328T010000
END:DAYLIGHT
BEGIN:STANDARD
TZOFFSETFROM:+0200
TZOFFSETTO:+0100
TZNAME:CET
DTSTART:20211031T010000
END:STANDARD
END:VTIMEZONE
BEGIN:VEVENT
DTSTART;TZID=Europe/Madrid:20210526T103000
DTEND;TZID=Europe/Madrid:20210526T110000
DTSTAMP:20260422T134827
CREATED:20210520T074229Z
LAST-MODIFIED:20210520T074229Z
UID:21576-1622025000-1622026800@noticias.eudel.eus
SUMMARY:[:es]Webinar informativa: ayudas mejora sostenibilidad energética.[:eu]Informazio Webinar: Energia jasangarria hobetzeko Udalentzako diru-laguntzak.[:]
DESCRIPTION:Maiatzaren 19an jarri zen indarrean udal eta toki-erakundeen jasangarritasun energetikoa hobetzeko azterketak eta auditoretzak egiteko diru-laguntzen deialdia. / Hauek eta beste laguntza osagarri batzuk zehaztasun handiagoz azaltzeko asmoz\, EUDELek eta Ekonomiaren Garapen\, Jasangarritasun eta Ingurumen Sailak informazio-webinar bat (Zoom) antolatu dugu maiatzaren 26rako (asteazkena)\, 10:30etik 11:30era
URL:https://noticias.eudel.eus/eu/evento/webinar-informativa-ayudas-mejora-sostenibilidad-energetica/
LOCATION:Zoom plataformaren bitartez
END:VEVENT
END:VCALENDAR