BEGIN:VCALENDAR
VERSION:2.0
PRODID:-//EUDEL Noticias | Asociación de Municipios Vascos - ECPv6.5.1.3//NONSGML v1.0//EN
CALSCALE:GREGORIAN
METHOD:PUBLISH
X-WR-CALNAME:EUDEL Noticias | Asociación de Municipios Vascos
X-ORIGINAL-URL:https://noticias.eudel.eus/eu
X-WR-CALDESC:Events for EUDEL Noticias | Asociación de Municipios Vascos
REFRESH-INTERVAL;VALUE=DURATION:PT1H
X-Robots-Tag:noindex
X-PUBLISHED-TTL:PT1H
BEGIN:VTIMEZONE
TZID:Europe/Madrid
BEGIN:DAYLIGHT
TZOFFSETFROM:+0100
TZOFFSETTO:+0200
TZNAME:CEST
DTSTART:20210328T010000
END:DAYLIGHT
BEGIN:STANDARD
TZOFFSETFROM:+0200
TZOFFSETTO:+0100
TZNAME:CET
DTSTART:20211031T010000
END:STANDARD
END:VTIMEZONE
BEGIN:VEVENT
DTSTART;TZID=Europe/Madrid:20210610T100000
DTEND;TZID=Europe/Madrid:20210610T110000
DTSTAMP:20260422T135508
CREATED:20210609T111130Z
LAST-MODIFIED:20210609T112215Z
UID:21638-1623319200-1623322800@noticias.eudel.eus
SUMMARY:[:es]Reunión EUDEL-Consejero Aspiazu. Fondos Europeos[:eu]Bilera EUDEL-Sailburu Aspiazu. Europako Funtsak[:]
DESCRIPTION:Gaia: Gorka Urtaran EUDELeko elkarteburua Pedro Azpiazu sailburuarekin batuko da\, Europako Funtsen egoerari eta EUSKADI NEXT programaren eguneraketari buruz. \nTopaketan\, honako hauek ere parte hartuko dute: \nNagore Alkorta\, EUDELeko elkarteburuordea eta Azpeitiko alkatea. Jose Antonio Santano\, EUDELeko elkarteburuordea eta Irungo alkatea. Mar Zabala\,  EUDELeko zuzendaria. Jordi Campàs\, Ekonomiako eta Europako Funtsetako sailburuordea. Yurdana Burgoa\, Kabineteko zuzendaria.
URL:https://noticias.eudel.eus/eu/evento/reunion-eudel-consejero-aspiazu-fondos-europeos/
LOCATION:Eusko Jaurlaritza (Lakua 2)\, Donostia-San Sebastian 1\, VITORIA-GASTEIZ
END:VEVENT
BEGIN:VEVENT
DTSTART;TZID=Europe/Madrid:20210610T113000
DTEND;TZID=Europe/Madrid:20210610T133000
DTSTAMP:20260422T135508
CREATED:20210604T120817Z
LAST-MODIFIED:20210604T120817Z
UID:21610-1623324600-1623331800@noticias.eudel.eus
SUMMARY:[:es]Comisión Ejecutiva de EUDEL[:eu]EUDELeko Batzorde Eragilea[:]
DESCRIPTION:
URL:https://noticias.eudel.eus/eu/evento/comision-ejecutiva-de-eudel-14/
LOCATION:Bideokonferentziaren bitartez bilera
END:VEVENT
END:VCALENDAR