BEGIN:VCALENDAR
VERSION:2.0
PRODID:-//EUDEL Noticias | Asociación de Municipios Vascos - ECPv6.5.1.3//NONSGML v1.0//EN
CALSCALE:GREGORIAN
METHOD:PUBLISH
X-WR-CALNAME:EUDEL Noticias | Asociación de Municipios Vascos
X-ORIGINAL-URL:https://noticias.eudel.eus/eu
X-WR-CALDESC:Events for EUDEL Noticias | Asociación de Municipios Vascos
REFRESH-INTERVAL;VALUE=DURATION:PT1H
X-Robots-Tag:noindex
X-PUBLISHED-TTL:PT1H
BEGIN:VTIMEZONE
TZID:Europe/Madrid
BEGIN:DAYLIGHT
TZOFFSETFROM:+0100
TZOFFSETTO:+0200
TZNAME:CEST
DTSTART:20210328T010000
END:DAYLIGHT
BEGIN:STANDARD
TZOFFSETFROM:+0200
TZOFFSETTO:+0100
TZNAME:CET
DTSTART:20211031T010000
END:STANDARD
END:VTIMEZONE
BEGIN:VEVENT
DTSTART;TZID=Europe/Madrid:20210617T090000
DTEND;TZID=Europe/Madrid:20210617T103000
DTSTAMP:20260422T140641
CREATED:20210614T081208Z
LAST-MODIFIED:20210614T081208Z
UID:21942-1623920400-1623925800@noticias.eudel.eus
SUMMARY:[:es]Comisión Territorial de Bizkaia de EUDEL[:eu]EUDELeko Bizkaiko Lurralde Batzordea[:]
DESCRIPTION:
URL:https://noticias.eudel.eus/eu/evento/comision-territorial-de-bizkaia-de-eudel-14/
LOCATION:Bideokonferentziaren bitartez bilera
END:VEVENT
BEGIN:VEVENT
DTSTART;TZID=Europe/Madrid:20210617T130000
DTEND;TZID=Europe/Madrid:20210617T143000
DTSTAMP:20260422T140641
CREATED:20210614T080957Z
LAST-MODIFIED:20210614T081110Z
UID:21939-1623934800-1623940200@noticias.eudel.eus
SUMMARY:[:es]Comisión Territorial de Álava de EUDEL[:eu]EUDELen Arabako Lurralde Batzordea[:]
DESCRIPTION:
URL:https://noticias.eudel.eus/eu/evento/comision-territorial-de-alava-de-eudel-7/
LOCATION:Bideokonferentziaren bitartez bilera
END:VEVENT
BEGIN:VEVENT
DTSTART;TZID=Europe/Madrid:20210617T140000
DTEND;TZID=Europe/Madrid:20210617T163000
DTSTAMP:20260422T140641
CREATED:20210614T074615Z
LAST-MODIFIED:20210614T074615Z
UID:21932-1623938400-1623947400@noticias.eudel.eus
SUMMARY:[:es]Sesión Plenaria Congreso de Poderes Locales y Regionales del Consejo de Europa (CPLRE)[:eu]Europako Kontseiluaren Tokiko eta Eskualdeko Botereen Biltzarraren osoko bilkura (CPLRE)[:]
DESCRIPTION:
URL:https://noticias.eudel.eus/eu/evento/sesion-plenaria-congreso-de-poderes-locales-y-regionales-del-consejo-de-europa-cplre-6/
LOCATION:Bideokonferentziaren bitartez bilera
END:VEVENT
END:VCALENDAR