BEGIN:VCALENDAR
VERSION:2.0
PRODID:-//EUDEL Noticias | Asociación de Municipios Vascos - ECPv6.5.1.3//NONSGML v1.0//EN
CALSCALE:GREGORIAN
METHOD:PUBLISH
X-ORIGINAL-URL:https://noticias.eudel.eus/eu
X-WR-CALDESC:Events for EUDEL Noticias | Asociación de Municipios Vascos
REFRESH-INTERVAL;VALUE=DURATION:PT1H
X-Robots-Tag:noindex
X-PUBLISHED-TTL:PT1H
BEGIN:VTIMEZONE
TZID:Europe/Madrid
BEGIN:DAYLIGHT
TZOFFSETFROM:+0100
TZOFFSETTO:+0200
TZNAME:CEST
DTSTART:20210328T010000
END:DAYLIGHT
BEGIN:STANDARD
TZOFFSETFROM:+0200
TZOFFSETTO:+0100
TZNAME:CET
DTSTART:20211031T010000
END:STANDARD
END:VTIMEZONE
BEGIN:VEVENT
DTSTART;TZID=Europe/Madrid:20211001T093000
DTEND;TZID=Europe/Madrid:20211001T173000
DTSTAMP:20260422T020938
CREATED:20210311T121556Z
LAST-MODIFIED:20210415T115246Z
UID:21348-1633080600-1633109400@noticias.eudel.eus
SUMMARY:[:es]XIV edición Seminario Vasco de Derecho Local. Cuarta sesión: La gestión de los procedimientos selectivos en un entorno digital -- ...[:eu]XIV edizioa Tokiko Zuzenbidearen Euskal Mintegia. Laugarren saioa: La gestión de los procedimientos selectivos en un entorno digital -- ...[:]
DESCRIPTION:Laugarren saioa: La gestión de los procedimientos selectivos en un entorno digital. — Hacia una selección estratégica: retos y mejoras. — Tokiko Zuzenbidearen Euskal Behatokia.
URL:https://noticias.eudel.eus/eu/evento/xiv-edicion-seminario-vasco-de-derecho-local-cuarta-sesion-la-gestion-de-los-procedimientos-selectivos-en-un-entorno-digital/
LOCATION:Zoom plataformaren bitartez
END:VEVENT
END:VCALENDAR