BEGIN:VCALENDAR
VERSION:2.0
PRODID:-//EUDEL Noticias | Asociación de Municipios Vascos - ECPv6.5.1.3//NONSGML v1.0//EN
CALSCALE:GREGORIAN
METHOD:PUBLISH
X-WR-CALNAME:EUDEL Noticias | Asociación de Municipios Vascos
X-ORIGINAL-URL:https://noticias.eudel.eus/eu
X-WR-CALDESC:Events for EUDEL Noticias | Asociación de Municipios Vascos
REFRESH-INTERVAL;VALUE=DURATION:PT1H
X-Robots-Tag:noindex
X-PUBLISHED-TTL:PT1H
BEGIN:VTIMEZONE
TZID:Europe/Madrid
BEGIN:DAYLIGHT
TZOFFSETFROM:+0100
TZOFFSETTO:+0200
TZNAME:CEST
DTSTART:20210328T010000
END:DAYLIGHT
BEGIN:STANDARD
TZOFFSETFROM:+0200
TZOFFSETTO:+0100
TZNAME:CET
DTSTART:20211031T010000
END:STANDARD
END:VTIMEZONE
BEGIN:VEVENT
DTSTART;VALUE=DATE:20211006
DTEND;VALUE=DATE:20211008
DTSTAMP:20260422T020815
CREATED:20210629T071926Z
LAST-MODIFIED:20210629T072239Z
UID:22009-1633478400-1633651199@noticias.eudel.eus
SUMMARY:[:es]SUM 2021 - Congreso de Movilidad Urbana Sostenible.[:eu]SUM Bilbao 2021 - Hiri Mugikortasun Iraunkorrari buruzko Biltzarra[:]
DESCRIPTION:Informazio gehiago biltzar honen inguruan webgune hau bisitatu:  www.sumbilbao.com/eu \n. — Beste urte batez\, EUDEL Euskadiko Udalen Elkarteak bat egin du\, lead partner gisa\, “SUM Bilbao”arekin\, hiri-mugikortasun jasangarriaren nazioarteko biltzarra. \nHiru dira helburuak: zabalkundea\, ezagutza eta aliantzak.
URL:https://noticias.eudel.eus/eu/evento/sum-2021-congreso-de-movilidad-urbana-sostenible/
LOCATION:Euskalduna Jauregia\, BILBAO
END:VEVENT
END:VCALENDAR