BEGIN:VCALENDAR
VERSION:2.0
PRODID:-//EUDEL Noticias | Asociación de Municipios Vascos - ECPv6.5.1.3//NONSGML v1.0//EN
CALSCALE:GREGORIAN
METHOD:PUBLISH
X-ORIGINAL-URL:https://noticias.eudel.eus/eu
X-WR-CALDESC:Events for EUDEL Noticias | Asociación de Municipios Vascos
REFRESH-INTERVAL;VALUE=DURATION:PT1H
X-Robots-Tag:noindex
X-PUBLISHED-TTL:PT1H
BEGIN:VTIMEZONE
TZID:Europe/Madrid
BEGIN:DAYLIGHT
TZOFFSETFROM:+0100
TZOFFSETTO:+0200
TZNAME:CEST
DTSTART:20210328T010000
END:DAYLIGHT
BEGIN:STANDARD
TZOFFSETFROM:+0200
TZOFFSETTO:+0100
TZNAME:CET
DTSTART:20211031T010000
END:STANDARD
END:VTIMEZONE
BEGIN:VEVENT
DTSTART;TZID=Europe/Madrid:20211028T090000
DTEND;TZID=Europe/Madrid:20211028T110000
DTSTAMP:20260422T020939
CREATED:20211027T091727Z
LAST-MODIFIED:20211027T091727Z
UID:22303-1635411600-1635418800@noticias.eudel.eus
SUMMARY:[:es]Consejo  Territorial de Administración Local y Finanzas de  Álava[:eu]Arabako Toki Administrazioko eta  Finantzetako Lurralde Kontseilua[:]
DESCRIPTION:
URL:https://noticias.eudel.eus/eu/evento/consejo-territorial-de-administracion-local-y-finanzas-de-alava-5/
LOCATION:Bideokonferentziaren bitartez bilera
END:VEVENT
BEGIN:VEVENT
DTSTART;TZID=Europe/Madrid:20211028T100000
DTEND;TZID=Europe/Madrid:20211028T120000
DTSTAMP:20260422T020939
CREATED:20211022T122603Z
LAST-MODIFIED:20211022T122603Z
UID:22293-1635415200-1635422400@noticias.eudel.eus
SUMMARY:[:es]10:00 h. Estrasburgo. Sesión Plenaria del CPLRE (Consejo de Poderes Locales y Regionales de Europa).[:eu]10:00. Estrasburgo. ETEBKaren osoko bilkura (Europako Toki eta Eskualde Botereen Kontseilua).[:]
DESCRIPTION:
URL:https://noticias.eudel.eus/eu/evento/1000-h-estrasburgo-sesion-plenaria-del-cplre-consejo-de-poderes-locales-y-regionales-de-europa-2/
LOCATION:Bideokonferentziaren bitartez bilera
END:VEVENT
END:VCALENDAR