BEGIN:VCALENDAR
VERSION:2.0
PRODID:-//EUDEL Noticias | Asociación de Municipios Vascos - ECPv6.5.1.3//NONSGML v1.0//EN
CALSCALE:GREGORIAN
METHOD:PUBLISH
X-ORIGINAL-URL:https://noticias.eudel.eus/eu
X-WR-CALDESC:Events for EUDEL Noticias | Asociación de Municipios Vascos
REFRESH-INTERVAL;VALUE=DURATION:PT1H
X-Robots-Tag:noindex
X-PUBLISHED-TTL:PT1H
BEGIN:VTIMEZONE
TZID:Europe/Madrid
BEGIN:DAYLIGHT
TZOFFSETFROM:+0100
TZOFFSETTO:+0200
TZNAME:CEST
DTSTART:20220327T010000
END:DAYLIGHT
BEGIN:STANDARD
TZOFFSETFROM:+0200
TZOFFSETTO:+0100
TZNAME:CET
DTSTART:20221030T010000
END:STANDARD
END:VTIMEZONE
BEGIN:VEVENT
DTSTART;TZID=Europe/Madrid:20220121T093000
DTEND;TZID=Europe/Madrid:20220121T130000
DTSTAMP:20260421T193930
CREATED:20220117T152322Z
LAST-MODIFIED:20220117T152322Z
UID:22586-1642757400-1642770000@noticias.eudel.eus
SUMMARY:[:es]Comité Director del Consejo de Municipios y Regiones de Europa (CMRE)[:eu]Europako Udal eta Eskualdeen Kontseiluaren Batzorde Gidatzailea.[:]
DESCRIPTION:
URL:https://noticias.eudel.eus/eu/evento/comite-director-del-consejo-de-municipios-y-regiones-de-europa-cmre-3/
LOCATION:Bideokonferentziaren bitartez bilera
END:VEVENT
END:VCALENDAR