BEGIN:VCALENDAR
VERSION:2.0
PRODID:-//EUDEL Noticias | Asociación de Municipios Vascos - ECPv6.5.1.3//NONSGML v1.0//EN
CALSCALE:GREGORIAN
METHOD:PUBLISH
X-ORIGINAL-URL:https://noticias.eudel.eus/eu
X-WR-CALDESC:Events for EUDEL Noticias | Asociación de Municipios Vascos
REFRESH-INTERVAL;VALUE=DURATION:PT1H
X-Robots-Tag:noindex
X-PUBLISHED-TTL:PT1H
BEGIN:VTIMEZONE
TZID:Europe/Madrid
BEGIN:DAYLIGHT
TZOFFSETFROM:+0100
TZOFFSETTO:+0200
TZNAME:CEST
DTSTART:20220327T010000
END:DAYLIGHT
BEGIN:STANDARD
TZOFFSETFROM:+0200
TZOFFSETTO:+0100
TZNAME:CET
DTSTART:20221030T010000
END:STANDARD
END:VTIMEZONE
BEGIN:VEVENT
DTSTART;TZID=Europe/Madrid:20220126T100000
DTEND;TZID=Europe/Madrid:20220126T113000
DTSTAMP:20260421T193827
CREATED:20220124T090553Z
LAST-MODIFIED:20220124T090553Z
UID:22656-1643191200-1643196600@noticias.eudel.eus
SUMMARY:[:es]Pleno de la Autoridad  del Transporte de Euskadi[:eu]Euskadiko Garraio Agintaritzaren osoko  bilkura[:]
DESCRIPTION:
URL:https://noticias.eudel.eus/eu/evento/pleno-de-la-autoridad-del-transporte-de-euskadi-4/
LOCATION:Bideokonferentziaren bitartez bilera
END:VEVENT
BEGIN:VEVENT
DTSTART;TZID=Europe/Madrid:20220126T153000
DTEND;TZID=Europe/Madrid:20220126T173000
DTSTAMP:20260421T193827
CREATED:20220124T090645Z
LAST-MODIFIED:20220124T090645Z
UID:22658-1643211000-1643218200@noticias.eudel.eus
SUMMARY:[:es]HAKOBA[:eu]HAKOBA[:]
DESCRIPTION:
URL:https://noticias.eudel.eus/eu/evento/hakoba-4/
LOCATION:Vitoria-Gasteiz\, ARABA
END:VEVENT
END:VCALENDAR