BEGIN:VCALENDAR
VERSION:2.0
PRODID:-//EUDEL Noticias | Asociación de Municipios Vascos - ECPv6.5.1.3//NONSGML v1.0//EN
CALSCALE:GREGORIAN
METHOD:PUBLISH
X-ORIGINAL-URL:https://noticias.eudel.eus/eu
X-WR-CALDESC:Events for EUDEL Noticias | Asociación de Municipios Vascos
REFRESH-INTERVAL;VALUE=DURATION:PT1H
X-Robots-Tag:noindex
X-PUBLISHED-TTL:PT1H
BEGIN:VTIMEZONE
TZID:Europe/Madrid
BEGIN:DAYLIGHT
TZOFFSETFROM:+0100
TZOFFSETTO:+0200
TZNAME:CEST
DTSTART:20220327T010000
END:DAYLIGHT
BEGIN:STANDARD
TZOFFSETFROM:+0200
TZOFFSETTO:+0100
TZNAME:CET
DTSTART:20221030T010000
END:STANDARD
END:VTIMEZONE
BEGIN:VEVENT
DTSTART;TZID=Europe/Madrid:20220203T093000
DTEND;TZID=Europe/Madrid:20220203T103000
DTSTAMP:20260421T193927
CREATED:20220202T100701Z
LAST-MODIFIED:20220202T102119Z
UID:22671-1643880600-1643884200@noticias.eudel.eus
SUMMARY:[:es]Berjantzi VITORIA-GASTEIZ. Firma Convenio Penas Trabajos para la Comunidad.[:eu]Berjantzi VITORIA-GASTEIZ. Hitzarmenaren sinadura: Gizartearentzat lan egiteko zigorrak betetzeko[:]
DESCRIPTION:EUDELEN ETA EUSKO JAURLARITZAREN ARTEKO ESPARRU-AKORDIOA SINATZEA\, GIZARTEARENTZAT LAN EGITEKO ZIGORRAK BETETZEKO.\n \nNOIZ: Osteguna\, 2022ko otsailaren 3a — NON:  Berjantzi. Gamarrako atea\, 9A 35-36 pabiloia Gasteiz — ORDUA:  09:30etan. \nPARTE-HARTZAILEAK: \n\nGorka Urtaran\, EUDELeko elkarteburua eta Gasteizko Alkatea\nBeatriz Artolazabal\, Berdintasun\, Justizia eta Gizarte Politiketako sailburua\n\n  \n 
URL:https://noticias.eudel.eus/eu/evento/berjantzi-vitoria-gasteiz-firma-convenio-penas-trabajos-para-la-comunidad/
LOCATION:Vitoria-Gasteiz\, ARABA
END:VEVENT
END:VCALENDAR