BEGIN:VCALENDAR
VERSION:2.0
PRODID:-//EUDEL Noticias | Asociación de Municipios Vascos - ECPv6.5.1.3//NONSGML v1.0//EN
CALSCALE:GREGORIAN
METHOD:PUBLISH
X-WR-CALNAME:EUDEL Noticias | Asociación de Municipios Vascos
X-ORIGINAL-URL:https://noticias.eudel.eus/eu
X-WR-CALDESC:Events for EUDEL Noticias | Asociación de Municipios Vascos
REFRESH-INTERVAL;VALUE=DURATION:PT1H
X-Robots-Tag:noindex
X-PUBLISHED-TTL:PT1H
BEGIN:VTIMEZONE
TZID:Europe/Madrid
BEGIN:DAYLIGHT
TZOFFSETFROM:+0100
TZOFFSETTO:+0200
TZNAME:CEST
DTSTART:20220327T010000
END:DAYLIGHT
BEGIN:STANDARD
TZOFFSETFROM:+0200
TZOFFSETTO:+0100
TZNAME:CET
DTSTART:20221030T010000
END:STANDARD
END:VTIMEZONE
BEGIN:VEVENT
DTSTART;TZID=Europe/Madrid:20220617T100000
DTEND;TZID=Europe/Madrid:20220617T120000
DTSTAMP:20260421T120132
CREATED:20220610T130455Z
LAST-MODIFIED:20220617T121838Z
UID:23196-1655460000-1655467200@noticias.eudel.eus
SUMMARY:[:es]Junta de Gobierno Elkarkidetza[:eu]Elkarkidetzako Gobernu Batzordea[:]
DESCRIPTION:EUDELen ordezkariak: \n\nAger Izagirre Loroño\, Mungiako alkatea\nGonzalo Olabarria Villota\, Bilboko zinegotzia\nRoberto Muñoz García\, Barrikako alkatea\nExabier Arrieta Galarraga\, Basauriko zinegotzia
URL:https://noticias.eudel.eus/eu/evento/junta-de-gobierno-elkarkidetza-4/
LOCATION:Bilbao
END:VEVENT
BEGIN:VEVENT
DTSTART;TZID=Europe/Madrid:20220617T120000
DTEND;TZID=Europe/Madrid:20220617T140000
DTSTAMP:20260421T120132
CREATED:20220613T094806Z
LAST-MODIFIED:20220613T094855Z
UID:23198-1655467200-1655474400@noticias.eudel.eus
SUMMARY:[:es]Comisión Territorial de Gipuzkoa de EUDEL[:eu]EUDELeko Gipuzkoako Lurralde Batzordea.[:]
DESCRIPTION:
URL:https://noticias.eudel.eus/eu/evento/1200-h-comision-territorial-de-gipuzkoa-de-eudel/
LOCATION:Bideokonferentziaren bitartez bilera
END:VEVENT
END:VCALENDAR