BEGIN:VCALENDAR
VERSION:2.0
PRODID:-//EUDEL Noticias | Asociación de Municipios Vascos - ECPv6.5.1.3//NONSGML v1.0//EN
CALSCALE:GREGORIAN
METHOD:PUBLISH
X-ORIGINAL-URL:https://noticias.eudel.eus/eu
X-WR-CALDESC:Events for EUDEL Noticias | Asociación de Municipios Vascos
REFRESH-INTERVAL;VALUE=DURATION:PT1H
X-Robots-Tag:noindex
X-PUBLISHED-TTL:PT1H
BEGIN:VTIMEZONE
TZID:Europe/Madrid
BEGIN:DAYLIGHT
TZOFFSETFROM:+0100
TZOFFSETTO:+0200
TZNAME:CEST
DTSTART:20220327T010000
END:DAYLIGHT
BEGIN:STANDARD
TZOFFSETFROM:+0200
TZOFFSETTO:+0100
TZNAME:CET
DTSTART:20221030T010000
END:STANDARD
END:VTIMEZONE
BEGIN:VEVENT
DTSTART;TZID=Europe/Madrid:20220620T120000
DTEND;TZID=Europe/Madrid:20220620T140000
DTSTAMP:20260421T120448
CREATED:20220615T094506Z
LAST-MODIFIED:20220627T103505Z
UID:23211-1655726400-1655733600@noticias.eudel.eus
SUMMARY:[:es]Reunión informativa: Recuento conjunto exclusión residencial grave.[:eu]Informazio-saioa: Bizitegi-bazterketa larriaren zenbaketa bateratua.[:]
DESCRIPTION:(barne-bilera eta telematikoa) \nGaia: Informazio-saioa: EAEko muturreko egoitza-bazterkeriako egoeran dauden biztanleak kuantifikatzeko eta horien ezaugarriak zehazteko V. zenbaketa bateratua \nDeialdia: Eusko Jaurlaritza. \nParte-hartzaileak: EUDEL-Udal eta mankomunitateak\, Eusko Jaurlaritzako Enplegu eta Gizarte Politiketako Saila eta hiru foru-aldundiak)
URL:https://noticias.eudel.eus/eu/evento/1200-reunion-informativa-recuento-conjunto-exclusion-residencial-grave/
LOCATION:Bideokonferentziaren bitartez bilera
END:VEVENT
END:VCALENDAR