BEGIN:VCALENDAR
VERSION:2.0
PRODID:-//EUDEL Noticias | Asociación de Municipios Vascos - ECPv6.5.1.3//NONSGML v1.0//EN
CALSCALE:GREGORIAN
METHOD:PUBLISH
X-ORIGINAL-URL:https://noticias.eudel.eus/eu
X-WR-CALDESC:Events for EUDEL Noticias | Asociación de Municipios Vascos
REFRESH-INTERVAL;VALUE=DURATION:PT1H
X-Robots-Tag:noindex
X-PUBLISHED-TTL:PT1H
BEGIN:VTIMEZONE
TZID:Europe/Madrid
BEGIN:DAYLIGHT
TZOFFSETFROM:+0100
TZOFFSETTO:+0200
TZNAME:CEST
DTSTART:20220327T010000
END:DAYLIGHT
BEGIN:STANDARD
TZOFFSETFROM:+0200
TZOFFSETTO:+0100
TZNAME:CET
DTSTART:20221030T010000
END:STANDARD
END:VTIMEZONE
BEGIN:VEVENT
DTSTART;TZID=Europe/Madrid:20220629T093000
DTEND;TZID=Europe/Madrid:20220629T110000
DTSTAMP:20260421T104324
CREATED:20220623T110151Z
LAST-MODIFIED:20220623T111340Z
UID:23261-1656495000-1656500400@noticias.eudel.eus
SUMMARY:[:es]Comisión de Garantías de Admisión de alumnos para el curso 2022/2023[:eu]2022/2023 ikasturteko ikasleen Onarpena Bermatzeko Batzordea[:]
DESCRIPTION:EUDELen ordezkaria: \n\nMartin Aramendi Arana\, Ataungo alkatea
URL:https://noticias.eudel.eus/eu/evento/comision-de-garantias-de-admision-de-alumnos-para-el-curso-2022-2023-2/
LOCATION:Donostia/San Sebastián
END:VEVENT
BEGIN:VEVENT
DTSTART;TZID=Europe/Madrid:20220629T093000
DTEND;TZID=Europe/Madrid:20220629T123000
DTSTAMP:20260421T104324
CREATED:20220627T065809Z
LAST-MODIFIED:20220627T103142Z
UID:23265-1656495000-1656505800@noticias.eudel.eus
SUMMARY:[:es]Tabakalera DONOSTIA. X Aniversario red Euskadi Lagunkoia [:eu]Tabakalera DONOSTIA. Euskadi Lagunkoia sarearen X. urteurrena[:]
DESCRIPTION:Ekainaren 29an\, asteazkena \n9.30-12.30. Tabakalera DONOSTIA \nGorka Urtaranek\, EUDELeko elkareburuak \, parte hartuko du ekitaldiaren inaugurazio instituzionala. \nEgitaraua: https://euskadilagunkoia.net/eu/albisteak/albiste-orokorrak/2597-gutxiago-geratzen-da-euskadi-lagunkoiaren-10-urteak-ospatzeko \nEuskadi Lagunkoia Berdintasun\, Justizia eta Gizarte Politiketako Saila sustatu eta Matia Fundazioak abiarazitako ekimena da eta bere helburua adinekoek eta\, oro har\, herritarrek Euskadiko udalerriak hobetzen parte har dezatela bultzatzea da\, zahartu ahala nork bere bizimodua izaten jarraitu ahal izateko.
URL:https://noticias.eudel.eus/eu/evento/930-h-tabakalera-donostia-x-aniversario-red-euskadi-lagunkoia/
LOCATION:Tabakalera. Donostia/San Sebastián\, Plaza de las Cigarreras\, 1\, Donostia/ San Sebastian\, Gipuzkoa\, 20012\, España
END:VEVENT
END:VCALENDAR