BEGIN:VCALENDAR
VERSION:2.0
PRODID:-//EUDEL Noticias | Asociación de Municipios Vascos - ECPv6.5.1.3//NONSGML v1.0//EN
CALSCALE:GREGORIAN
METHOD:PUBLISH
X-ORIGINAL-URL:https://noticias.eudel.eus/eu
X-WR-CALDESC:Events for EUDEL Noticias | Asociación de Municipios Vascos
REFRESH-INTERVAL;VALUE=DURATION:PT1H
X-Robots-Tag:noindex
X-PUBLISHED-TTL:PT1H
BEGIN:VTIMEZONE
TZID:Europe/Madrid
BEGIN:DAYLIGHT
TZOFFSETFROM:+0100
TZOFFSETTO:+0200
TZNAME:CEST
DTSTART:20220327T010000
END:DAYLIGHT
BEGIN:STANDARD
TZOFFSETFROM:+0200
TZOFFSETTO:+0100
TZNAME:CET
DTSTART:20221030T010000
END:STANDARD
END:VTIMEZONE
BEGIN:VEVENT
DTSTART;TZID=Europe/Madrid:20220712T093000
DTEND;TZID=Europe/Madrid:20220712T133000
DTSTAMP:20260421T104356
CREATED:20220711T103738Z
LAST-MODIFIED:20220711T104638Z
UID:23413-1657618200-1657632600@noticias.eudel.eus
SUMMARY:[:es]Donostia/San Sebastián\, Palacio Miramar. Curso verano ‘Agenda 2030’[:eu]Donostia\, Miramar Jauregia. ‘2030 Agenda’ udako ikastaraoa[:]
DESCRIPTION:“2030 Agenda\, kontratu sozial berri bat” udako ikastaroa. \nUztailaren 12an eta 13an\, Donostiako Miramar Jauregian. \nEgitaraua: https://www.uik.eus/eu/jarduera/2030-agenda-kontratu-sozial-berri-bat \nAntolatzaikeak: Eusko Jaurlaritzaren Trantsizio Sozialaren eta 2030 Agendaren Idazkaritza Nagusia ; UPV/EHU. \n  \nEUDELek programan parte hartuko du euskal udalen ordezkari gisa\, Euskadiko 2030 Agendaren Eragile Anitzeko Foroan. \nOrdezkaria: Koldobike Olabide\, Legazpiko Alkatea \n  \n11:30-13:00 Nola bihurtu 2030 Agenda gizarte-kontratu berri bat: erakundeen begirada: Trantsizio Sozialaren eta 2030 Agendaren Eragile Anitzeko Foroa. \no Leixuri Ugarte\, Garapen Jasangarriaren Aldeko Arabako Aliantzaren arduraduna\, Arabako Foru Aldundia.  \no Maitane Leizaola\, Bizkaiko Foru Aldundiko Kabineteko Koordinazioko zuzendari nagusia.  \no Sebas Zurutuza\, Gipuzkoako Foru Aldundiko Proiektuen zuzendaria.  \no Koldobike Olabide\, Legazpiko alkatea eta EUDELen Batzorde Eragilea. \no Jone Berriozabal\, Eusko Jaurlaritzako Gobernantza Publiko eta Autogobernu Saileko Erakunde Harremanetarako sailburuordea. \n\nModeratzailea: Eduardo Iribarren.
URL:https://noticias.eudel.eus/eu/evento/donostia-palacio-miramar-930-1330-curso-verano-agenda-2030/
LOCATION:Miramar Jaruegia\, Donostia/San Sebastián
END:VEVENT
BEGIN:VEVENT
DTSTART;TZID=Europe/Madrid:20220712T100000
DTEND;TZID=Europe/Madrid:20220712T120000
DTSTAMP:20260421T104356
CREATED:20220708T111106Z
LAST-MODIFIED:20220708T120143Z
UID:23360-1657620000-1657627200@noticias.eudel.eus
SUMMARY:[:es]Vitoria-Gasteiz. Comisión Permanente Sectorial para la Atención a la Infancia y la Adolescencia[:eu]Vitoria-Gasteiz. Haurrak eta Nerabeak Zaintzeko Batzorde Iraunkor Sektoriala[:]
DESCRIPTION:EUDELeko ordezkariak: \n\nAitziber San Román Abete\, Donostiako zinegotzia\nAintzane Urkijo Sagredo\, Santurtziko alkatea\nAlberto Porras Conde\, Vitoria-Gasteizko zinegotzia
URL:https://noticias.eudel.eus/eu/evento/vitoria-gasteiz-comision-permanente-sectorial-para-la-atencion-a-la-infancia-y-la-adolescencia/
LOCATION:Vitoria-Gasteiz\, ARABA
END:VEVENT
BEGIN:VEVENT
DTSTART;TZID=Europe/Madrid:20220712T153000
DTEND;TZID=Europe/Madrid:20220712T170000
DTSTAMP:20260421T104356
CREATED:20220708T111335Z
LAST-MODIFIED:20220708T114428Z
UID:23362-1657639800-1657645200@noticias.eudel.eus
SUMMARY:[:es]Vitoria-Gasteiz. HAKOBA.[:eu]Vitoria-Gasteiz. HAKOBA.[:]
DESCRIPTION:EUDELeko ordezkaria: \n\nTxomin Sagarzazu Ancisar\, Hondarribiko alkatea
URL:https://noticias.eudel.eus/eu/evento/vitoria-gasteiz-hakoba/
LOCATION:Vitoria-Gasteiz\, ARABA
END:VEVENT
BEGIN:VEVENT
DTSTART;TZID=Europe/Madrid:20220712T180000
DTEND;TZID=Europe/Madrid:20220712T193000
DTSTAMP:20260421T104356
CREATED:20220708T111656Z
LAST-MODIFIED:20220708T120255Z
UID:23364-1657648800-1657654200@noticias.eudel.eus
SUMMARY:[:es]Vitoria-Gasteiz. Consejo Territorial de Deporte Escolar de Álava[:eu]Vitoria-Gasteiz. Arabako Eskola Kirolaren Lurraldeko Kontseilua[:]
DESCRIPTION:EUDELeko ordezkaria: \n\nTxerra Molinuevo Laña\, Amurrioko alkatea
URL:https://noticias.eudel.eus/eu/evento/vitoria-gasteiz-consejo-territorial-de-deporte-escolar-de-alava/
LOCATION:Vitoria-Gasteiz\, ARABA
END:VEVENT
END:VCALENDAR