BEGIN:VCALENDAR
VERSION:2.0
PRODID:-//EUDEL Noticias | Asociación de Municipios Vascos - ECPv6.5.1.3//NONSGML v1.0//EN
CALSCALE:GREGORIAN
METHOD:PUBLISH
X-ORIGINAL-URL:https://noticias.eudel.eus/eu
X-WR-CALDESC:Events for EUDEL Noticias | Asociación de Municipios Vascos
REFRESH-INTERVAL;VALUE=DURATION:PT1H
X-Robots-Tag:noindex
X-PUBLISHED-TTL:PT1H
BEGIN:VTIMEZONE
TZID:Europe/Madrid
BEGIN:DAYLIGHT
TZOFFSETFROM:+0100
TZOFFSETTO:+0200
TZNAME:CEST
DTSTART:20220327T010000
END:DAYLIGHT
BEGIN:STANDARD
TZOFFSETFROM:+0200
TZOFFSETTO:+0100
TZNAME:CET
DTSTART:20221030T010000
END:STANDARD
END:VTIMEZONE
BEGIN:VEVENT
DTSTART;TZID=Europe/Madrid:20220713T090000
DTEND;TZID=Europe/Madrid:20220713T110000
DTSTAMP:20260421T104356
CREATED:20220708T112049Z
LAST-MODIFIED:20220708T120451Z
UID:23368-1657702800-1657710000@noticias.eudel.eus
SUMMARY:[:es]Bilbao. Comisión Mixta de Financiación Municipal de Bizkaia.[:eu]Bilbao. Bizkaiko Udal Finantzaketaren Batzorde Mistoa.[:]
DESCRIPTION:EUDELeko ordezkariak: \n–     Ager Izagirre Loroño\, Mungiako alkatea \n–     Ainhoa Salterain Gandarias\, Amorebieta-Etxanoko zinegotzia \n–     Iker Urkiza Quilez\, Durangoko zinegotzia \n–     Mikel Torres Lorenzo\, Portugaleteko alkatea
URL:https://noticias.eudel.eus/eu/evento/bilbao-comision-mixta-de-financiacion-municipal-de-bizkaia/
LOCATION:Bilbao
END:VEVENT
BEGIN:VEVENT
DTSTART;TZID=Europe/Madrid:20220713T090000
DTEND;TZID=Europe/Madrid:20220713T133000
DTSTAMP:20260421T104356
CREATED:20220711T103947Z
LAST-MODIFIED:20220711T105105Z
UID:23416-1657702800-1657719000@noticias.eudel.eus
SUMMARY:[:es]Donostia/San Sebastián\, Palacio Miramar. Curso verano ‘Agenda 2030’ (sesión 2)[:eu]Donostia\, Miramar Jauregia. ‘2030 Agenda’ udako ikastaroa (2. Saioa)[:]
DESCRIPTION:“2030 Agenda\, kontratu sozial berri bat” udako ikastaroa. \nUztailaren 12an eta 13an\, Donostiako Miramar Jauregian. \nEgitaraua: https://www.uik.eus/eu/jarduera/2030-agenda-kontratu-sozial-berri-bat \nAntolatzaikeak: Eusko Jaurlaritzaren Trantsizio Sozialaren eta 2030 Agendaren Idazkaritza Nagusia ; UPV/EHU. \n*13:15ean\, Lehendakariaren amaiera instituzionala
URL:https://noticias.eudel.eus/eu/evento/donostia-san-sebastian-palacio-miramar-curso-verano-agenda-2030-sesion-2/
LOCATION:Miramar Jauregia\, DONOSTIA/SAN SEBASTIÁN
END:VEVENT
BEGIN:VEVENT
DTSTART;TZID=Europe/Madrid:20220713T093000
DTEND;TZID=Europe/Madrid:20220713T100000
DTSTAMP:20260421T104356
CREATED:20220708T112422Z
LAST-MODIFIED:20220708T112422Z
UID:23370-1657704600-1657706400@noticias.eudel.eus
SUMMARY:[:es]Vitoria-Gasteiz. Comisión de Ordenación del Territorio del País Vasco[:eu]Vitoria-Gasteiz. Euskal Autonomia Erkidegoko Lurralde Antolamendurako Batzordea[:]
DESCRIPTION:EUDELen ordezkariak: \n\nAna Oregi Bastarrika\, Vitoria-Gasteizko zinegotzia\nAsier Abaunza Robles\, Bilboko zinegotzia\nAdur Ezenarro Agirre\, Ordiziako alkatea\n\n 
URL:https://noticias.eudel.eus/eu/evento/vitoria-gasteiz-comision-de-ordenacion-del-territorio-del-pais-vasco-3/
LOCATION:Vitoria-Gasteiz\, ARABA
END:VEVENT
BEGIN:VEVENT
DTSTART;TZID=Europe/Madrid:20220713T100000
DTEND;TZID=Europe/Madrid:20220713T103000
DTSTAMP:20260421T104356
CREATED:20220708T112930Z
LAST-MODIFIED:20220708T112930Z
UID:23372-1657706400-1657708200@noticias.eudel.eus
SUMMARY:[:es]Vitoria-Gasteiz. Comisión de Ordenación del Territorio del País Vasco. Bizkaia. [:eu]Vitoria-Gasteiz. Euskal Autonomia Erkidegoko Lurralde Antolamendurako Batzordea. Bizkaia[:]
DESCRIPTION:EUDELeko ordezkaria: \n\nAsier Abaunza Robles\, Concejal de Bilboko zinegotzia
URL:https://noticias.eudel.eus/eu/evento/vitoria-gasteiz-comision-de-ordenacion-del-territorio-del-pais-vasco-bizkaia/
LOCATION:Vitoria-Gasteiz\, ARABA
END:VEVENT
BEGIN:VEVENT
DTSTART;TZID=Europe/Madrid:20220713T100000
DTEND;TZID=Europe/Madrid:20220713T103000
DTSTAMP:20260421T104356
CREATED:20220708T113208Z
LAST-MODIFIED:20220708T113208Z
UID:23374-1657706400-1657708200@noticias.eudel.eus
SUMMARY:[:es]Vitoria-Gasteiz. Comisión de Ordenación del Territorio del País Vasco. Gipuzkoa.[:eu]Vitoria-Gasteiz. Euskal Autonomia Erkidegoko Lurralde Antolamendurako Batzordea. Gipuzkoa[:]
DESCRIPTION:EUDELeko ordezkaria: \n\nAdur Ezenarro Agirre\, Ordiziako alkatea
URL:https://noticias.eudel.eus/eu/evento/vitoria-gasteiz-comision-de-ordenacion-del-territorio-del-pais-vasco-gipuzkoa/
LOCATION:Vitoria-Gasteiz\, ARABA
END:VEVENT
BEGIN:VEVENT
DTSTART;TZID=Europe/Madrid:20220713T103000
DTEND;TZID=Europe/Madrid:20220713T110000
DTSTAMP:20260421T104356
CREATED:20220708T113729Z
LAST-MODIFIED:20220708T113729Z
UID:23376-1657708200-1657710000@noticias.eudel.eus
SUMMARY:[:es]Vitoria-Gasteiz. Comisión de Ordenación del Territorio del País Vasco. Araba.[:eu]Vitoria-Gasteiz. Euskal Autonomia Erkidegoko Lurralde Antolamendurako Batzordea. Araba.[:]
DESCRIPTION:EUDELeko ordezkaria: \n\nAna Oregi Bastarrika\, Vitoria-Gasteizko zinegotzia
URL:https://noticias.eudel.eus/eu/evento/vitoria-gasteiz-comision-de-ordenacion-del-territorio-del-pais-vasco-araba/
LOCATION:Vitoria-Gasteiz\, ARABA
END:VEVENT
END:VCALENDAR