BEGIN:VCALENDAR
VERSION:2.0
PRODID:-//EUDEL Noticias | Asociación de Municipios Vascos - ECPv6.5.1.3//NONSGML v1.0//EN
CALSCALE:GREGORIAN
METHOD:PUBLISH
X-WR-CALNAME:EUDEL Noticias | Asociación de Municipios Vascos
X-ORIGINAL-URL:https://noticias.eudel.eus
X-WR-CALDESC:Eventos para EUDEL Noticias | Asociación de Municipios Vascos
REFRESH-INTERVAL;VALUE=DURATION:PT1H
X-Robots-Tag:noindex
X-PUBLISHED-TTL:PT1H
BEGIN:VTIMEZONE
TZID:Europe/Madrid
BEGIN:DAYLIGHT
TZOFFSETFROM:+0100
TZOFFSETTO:+0200
TZNAME:CEST
DTSTART:20170326T010000
END:DAYLIGHT
BEGIN:STANDARD
TZOFFSETFROM:+0200
TZOFFSETTO:+0100
TZNAME:CET
DTSTART:20171029T010000
END:STANDARD
END:VTIMEZONE
BEGIN:VEVENT
DTSTART;TZID=Europe/Madrid:20171107T090000
DTEND;TZID=Europe/Madrid:20171107T150000
DTSTAMP:20260426T001736
CREATED:20171205T163003Z
LAST-MODIFIED:20171205T163003Z
UID:17361-1510045200-1510066800@noticias.eudel.eus
SUMMARY:09:00 h. Bruselas. Secretarios Generales del Consejo de Municipios y Regiones de Europa (CMRE).09:00. Bruselas. Europako Udal eta Eskualdeen Kontseiluaren Idazkari nagusiak.
DESCRIPTION:
URL:https://noticias.eudel.eus/evento/0900-h-bruselas-secretarios-generales-del-consejo-de-municipios-y-regiones-de-europa-cmre-0900-bruselas-europako-udal-eta-eskualdeen-kontseiluaren-idazkari-nagusiak/
LOCATION:ARABA
CATEGORIES:General
END:VEVENT
BEGIN:VEVENT
DTSTART;TZID=Europe/Madrid:20171107T120000
DTEND;TZID=Europe/Madrid:20171107T140000
DTSTAMP:20260426T001736
CREATED:20171205T163042Z
LAST-MODIFIED:20171205T163042Z
UID:17363-1510056000-1510063200@noticias.eudel.eus
SUMMARY:12:00 h. Donostia/San Sebastián. Grupo de Hombres electos por la Igualdad.12:00. Donostia. Berdintasunaren aldeko gizon hautetsien taldea.
DESCRIPTION:
URL:https://noticias.eudel.eus/evento/1200-h-donostiasan-sebastian-grupo-de-hombres-electos-por-la-igualdad-1200-donostia-berdintasunaren-aldeko-gizon-hautetsien-taldea/
LOCATION:ARABA
CATEGORIES:General
END:VEVENT
END:VCALENDAR