BEGIN:VCALENDAR
VERSION:2.0
PRODID:-//EUDEL Noticias | Asociación de Municipios Vascos - ECPv6.5.1.3//NONSGML v1.0//EN
CALSCALE:GREGORIAN
METHOD:PUBLISH
X-WR-CALNAME:EUDEL Noticias | Asociación de Municipios Vascos
X-ORIGINAL-URL:https://noticias.eudel.eus/eu
X-WR-CALDESC:Events for EUDEL Noticias | Asociación de Municipios Vascos
REFRESH-INTERVAL;VALUE=DURATION:PT1H
X-Robots-Tag:noindex
X-PUBLISHED-TTL:PT1H
BEGIN:VTIMEZONE
TZID:Europe/Madrid
BEGIN:DAYLIGHT
TZOFFSETFROM:+0100
TZOFFSETTO:+0200
TZNAME:CEST
DTSTART:20180325T010000
END:DAYLIGHT
BEGIN:STANDARD
TZOFFSETFROM:+0200
TZOFFSETTO:+0100
TZNAME:CET
DTSTART:20181028T010000
END:STANDARD
END:VTIMEZONE
BEGIN:VEVENT
DTSTART;TZID=Europe/Madrid:20180123T100000
DTEND;TZID=Europe/Madrid:20180123T120000
DTSTAMP:20260425T225541
CREATED:20180426T153543Z
LAST-MODIFIED:20180426T153543Z
UID:18147-1516701600-1516708800@noticias.eudel.eus
SUMMARY:10:00 h. Vitoria-Gasteiz. Comisión de seguimiento Estatuto de las mujeres agricultoras.10:00. Vitoria-Gasteiz. Emakume Nekazarien Estatutuko Segimendu Batzordea.
DESCRIPTION:
URL:https://noticias.eudel.eus/eu/evento/1000-h-vitoria-gasteiz-comision-de-seguimiento-estatuto-de-las-mujeres-agricultoras/
LOCATION:ARABA
CATEGORIES:General
END:VEVENT
BEGIN:VEVENT
DTSTART;TZID=Europe/Madrid:20180123T100000
DTEND;TZID=Europe/Madrid:20180123T140000
DTSTAMP:20260425T225541
CREATED:20180426T153544Z
LAST-MODIFIED:20180426T153544Z
UID:18155-1516701600-1516716000@noticias.eudel.eus
SUMMARY:10:00 h. Campus Leioa. La Red de Electas VWBasqueskola participa en la Jornada organizada por la UPV: "Mujeres enredadas: AKADEME y otras experiencias". 10:00. Campus Leioa. VWBasqueskola hautetsien sareak parte hartzen du EHU-k antolatutako Jardunaldian: "Emakume SAREtuak: AKADEME eta beste esperientzia batzuk".
DESCRIPTION:EHU-k antolatuta. VWBaskeskola Sareak parte hartzen du Jardunaldian. \nhttps://www.ehu.eus/es/-/jardunaldia-emakume-saretuak-akdm-eta-beste-esperientzia-batzuk-
URL:https://noticias.eudel.eus/eu/evento/1000-h-campus-leioa-la-red-de-electas-vwbasqueskola-participa-en-la-jornada-organizada-por-la-upv-mujeres-enredadas-akademe-y-otras-experiencias/
LOCATION:ARABA
CATEGORIES:General
END:VEVENT
BEGIN:VEVENT
DTSTART;TZID=Europe/Madrid:20180123T130000
DTEND;TZID=Europe/Madrid:20180123T150000
DTSTAMP:20260425T225541
CREATED:20180426T153543Z
LAST-MODIFIED:20180426T153543Z
UID:18142-1516712400-1516719600@noticias.eudel.eus
SUMMARY:13:00 h. EUDEL Bilbao. Comisión Territorial de Bizkaia de EUDEL.13:00. EUDEL Bilbao. EUDELeko Bizkaiko Lurralde Batzordea.
DESCRIPTION:
URL:https://noticias.eudel.eus/eu/evento/1300-h-eudel-bilbao-comision-territorial-de-bizkaia-de-eudel/
LOCATION:ARABA
CATEGORIES:General
END:VEVENT
END:VCALENDAR