BEGIN:VCALENDAR
VERSION:2.0
PRODID:-//EUDEL Noticias | Asociación de Municipios Vascos - ECPv6.5.1.3//NONSGML v1.0//EN
CALSCALE:GREGORIAN
METHOD:PUBLISH
X-WR-CALNAME:EUDEL Noticias | Asociación de Municipios Vascos
X-ORIGINAL-URL:https://noticias.eudel.eus/eu
X-WR-CALDESC:Events for EUDEL Noticias | Asociación de Municipios Vascos
REFRESH-INTERVAL;VALUE=DURATION:PT1H
X-Robots-Tag:noindex
X-PUBLISHED-TTL:PT1H
BEGIN:VTIMEZONE
TZID:Europe/Madrid
BEGIN:DAYLIGHT
TZOFFSETFROM:+0100
TZOFFSETTO:+0200
TZNAME:CEST
DTSTART:20180325T010000
END:DAYLIGHT
BEGIN:STANDARD
TZOFFSETFROM:+0200
TZOFFSETTO:+0100
TZNAME:CET
DTSTART:20181028T010000
END:STANDARD
END:VTIMEZONE
BEGIN:VEVENT
DTSTART;TZID=Europe/Madrid:20180215T090000
DTEND;TZID=Europe/Madrid:20180215T170000
DTSTAMP:20260425T213015
CREATED:20180426T153543Z
LAST-MODIFIED:20180426T153543Z
UID:18146-1518685200-1518714000@noticias.eudel.eus
SUMMARY:09:00 h. Palacio de Europa Vitoria-Gasteiz. XI. Encuentros  Política Deportiva en municipios: “LA CIUDADANÍA COMO CENTRO DE LA GESTIÓN PÚBLICA”.09:00. Gasteizko Europa Jauregian Udal kirol politikari buruzko XI.  Topaketak: “HERRITARRAK KUDEAKETA PUBLIKOAREN ERDIGUNE GISA”
DESCRIPTION:Egitaraua eta Izan-ematea\, webgunean: http://www.kait-kirola.org/xi-encuentros-de-politicas-deportivas-en-los-municipios-kirol-politikak-udalerrietan-xi-topaketak/
URL:https://noticias.eudel.eus/eu/evento/0900-h-palacio-de-europa-vitoria-gasteiz-xi-encuentros-politica-deportiva-en-municipios-la-ciudadania-como-centro-de-la-gestion-publica/
LOCATION:ARABA
CATEGORIES:General
END:VEVENT
END:VCALENDAR