BEGIN:VCALENDAR
VERSION:2.0
PRODID:-//EUDEL Noticias | Asociación de Municipios Vascos - ECPv6.5.1.3//NONSGML v1.0//EN
CALSCALE:GREGORIAN
METHOD:PUBLISH
X-WR-CALNAME:EUDEL Noticias | Asociación de Municipios Vascos
X-ORIGINAL-URL:https://noticias.eudel.eus/eu
X-WR-CALDESC:Events for EUDEL Noticias | Asociación de Municipios Vascos
REFRESH-INTERVAL;VALUE=DURATION:PT1H
X-Robots-Tag:noindex
X-PUBLISHED-TTL:PT1H
BEGIN:VTIMEZONE
TZID:Europe/Madrid
BEGIN:DAYLIGHT
TZOFFSETFROM:+0100
TZOFFSETTO:+0200
TZNAME:CEST
DTSTART:20180325T010000
END:DAYLIGHT
BEGIN:STANDARD
TZOFFSETFROM:+0200
TZOFFSETTO:+0100
TZNAME:CET
DTSTART:20181028T010000
END:STANDARD
END:VTIMEZONE
BEGIN:VEVENT
DTSTART;TZID=Europe/Madrid:20180223T120000
DTEND;TZID=Europe/Madrid:20180223T140000
DTSTAMP:20260425T201039
CREATED:20180426T153541Z
LAST-MODIFIED:20180426T153541Z
UID:18110-1519387200-1519394400@noticias.eudel.eus
SUMMARY:12:00 h. Vitoria-Gasteiz. Grupo de trabajo de análisis general de las competencias propias y la financiación de los distintos niveles institucionales12:00. Vitoria-Gasteiz. Euskadiko Autonomia Erkidegoko maila Instituzionalaren finantzaketa eta eskuduntzak orokorki aztertzeko lantaldea
DESCRIPTION:
URL:https://noticias.eudel.eus/eu/evento/1200-h-vitoria-gasteiz-grupo-de-trabajo-de-analisis-general-de-las-competencias-propias-y-la-financiacion-de-los-distintos-niveles-institucionales/
LOCATION:ARABA
CATEGORIES:General
END:VEVENT
END:VCALENDAR