BEGIN:VCALENDAR
VERSION:2.0
PRODID:-//EUDEL Noticias | Asociación de Municipios Vascos - ECPv6.5.1.3//NONSGML v1.0//EN
CALSCALE:GREGORIAN
METHOD:PUBLISH
X-WR-CALNAME:EUDEL Noticias | Asociación de Municipios Vascos
X-ORIGINAL-URL:https://noticias.eudel.eus/eu
X-WR-CALDESC:Events for EUDEL Noticias | Asociación de Municipios Vascos
REFRESH-INTERVAL;VALUE=DURATION:PT1H
X-Robots-Tag:noindex
X-PUBLISHED-TTL:PT1H
BEGIN:VTIMEZONE
TZID:Europe/Madrid
BEGIN:DAYLIGHT
TZOFFSETFROM:+0100
TZOFFSETTO:+0200
TZNAME:CEST
DTSTART:20180325T010000
END:DAYLIGHT
BEGIN:STANDARD
TZOFFSETFROM:+0200
TZOFFSETTO:+0100
TZNAME:CET
DTSTART:20181028T010000
END:STANDARD
END:VTIMEZONE
BEGIN:VEVENT
DTSTART;TZID=Europe/Madrid:20180320T100000
DTEND;TZID=Europe/Madrid:20180320T130000
DTSTAMP:20260425T183828
CREATED:20180426T153540Z
LAST-MODIFIED:20180426T153540Z
UID:18095-1521540000-1521550800@noticias.eudel.eus
SUMMARY:10:00 h. Donostia/San Sebastián\, Centro Koldo Mitxelena. Entrega del Premio europeo de Excelencia en Gobernanza a Ayuntamientos vascos.10:00. Donostia\, Koldo Mitxelena Kulturunean. Gobernantza Bikaintasuneko Europako zigilua emateko ekitaldia.
DESCRIPTION:Martxoaren 20a\, Donostia \nELoGE Zigilua eta esperientzien berri emateko ekitaldia \nDatorren martxoaren 20an\, goizeko 10:00etatik aurrera\, Donostiako Koldo Mitxelena Kulturunean\, 2017ko Gobernantza Bikaintasunerako Europako Zigilua emateko ekitaldia izango dela. Bertan\, proiektu pilotuan parte hartu duten 9 udalek Euskadiko udalerrietan egindako lana aurkeztuko da.Horri dagokionez\, joan den astean igorritako deialdian iragarri genizuen bezala\, esperientzia-mahai bat ere dago aurreikusita. Horretarako\, udal bakoitzeko arduradun politikoak (alkatea edo zinegotzia) daude gonbidatuta.Aipatutako esku-hartzea amaitu eta berehala hasiko da Zigilua emateko ekitaldia bera zentzu hertsian eta Alina Tatarenkok (CoE) eta EUDELeko elkarteburua Imanol Landak gidatuko dute.
URL:https://noticias.eudel.eus/eu/evento/1000-h-donostiasan-sebastian-centro-koldo-mitxelena-entrega-del-premio-europeo-de-excelencia-en-gobernanza-a-ayuntamientos-vascos/
LOCATION:ARABA
CATEGORIES:General
END:VEVENT
END:VCALENDAR