BEGIN:VCALENDAR
VERSION:2.0
PRODID:-//EUDEL Noticias | Asociación de Municipios Vascos - ECPv6.5.1.3//NONSGML v1.0//EN
CALSCALE:GREGORIAN
METHOD:PUBLISH
X-ORIGINAL-URL:https://noticias.eudel.eus
X-WR-CALDESC:Eventos para EUDEL Noticias | Asociación de Municipios Vascos
REFRESH-INTERVAL;VALUE=DURATION:PT1H
X-Robots-Tag:noindex
X-PUBLISHED-TTL:PT1H
BEGIN:VTIMEZONE
TZID:Europe/Madrid
BEGIN:DAYLIGHT
TZOFFSETFROM:+0100
TZOFFSETTO:+0200
TZNAME:CEST
DTSTART:20180325T010000
END:DAYLIGHT
BEGIN:STANDARD
TZOFFSETFROM:+0200
TZOFFSETTO:+0100
TZNAME:CET
DTSTART:20181028T010000
END:STANDARD
END:VTIMEZONE
BEGIN:VEVENT
DTSTART;TZID=Europe/Madrid:20181121T090000
DTEND;TZID=Europe/Madrid:20181121T110000
DTSTAMP:20260425T043749
CREATED:20181205T171407Z
LAST-MODIFIED:20181205T171407Z
UID:19328-1542790800-1542798000@noticias.eudel.eus
SUMMARY:09:00 h. Donostia/San Sebastián. Mesa Interinstitucional de Servicios Sociales de Gipuzkoa.09:00. Donostia. Gipuzkoako Gizarte Zerbitzuen Erakunde arteko Mahaia.
DESCRIPTION:
URL:https://noticias.eudel.eus/evento/0900-h-donostia-san-sebastian-mesa-interinstitucional-de-servicios-sociales-de-gipuzkoa/
LOCATION:ARABA
CATEGORIES:General
END:VEVENT
END:VCALENDAR