BEGIN:VCALENDAR
VERSION:2.0
PRODID:-//EUDEL Noticias | Asociación de Municipios Vascos - ECPv6.5.1.3//NONSGML v1.0//EN
CALSCALE:GREGORIAN
METHOD:PUBLISH
X-ORIGINAL-URL:https://noticias.eudel.eus
X-WR-CALDESC:Eventos para EUDEL Noticias | Asociación de Municipios Vascos
REFRESH-INTERVAL;VALUE=DURATION:PT1H
X-Robots-Tag:noindex
X-PUBLISHED-TTL:PT1H
BEGIN:VTIMEZONE
TZID:Europe/Madrid
BEGIN:DAYLIGHT
TZOFFSETFROM:+0100
TZOFFSETTO:+0200
TZNAME:CEST
DTSTART:20180325T010000
END:DAYLIGHT
BEGIN:STANDARD
TZOFFSETFROM:+0200
TZOFFSETTO:+0100
TZNAME:CET
DTSTART:20181028T010000
END:STANDARD
END:VTIMEZONE
BEGIN:VEVENT
DTSTART;TZID=Europe/Madrid:20181122T130000
DTEND;TZID=Europe/Madrid:20181122T150000
DTSTAMP:20260425T055046
CREATED:20181205T171407Z
LAST-MODIFIED:20181205T171407Z
UID:19326-1542891600-1542898800@noticias.eudel.eus
SUMMARY:13:00 h. Vitoria-Gasteiz. Consejo Asesor de la Red de Itinerarios Verdes de Álava.13:00. Vitoria-Gasteiz. Arabako Ibilbide Berdeen Sarearen Aholku Kontseilua.
DESCRIPTION:
URL:https://noticias.eudel.eus/evento/1300-h-vitoria-gasteiz-consejo-asesor-de-la-red-de-itinerarios-verdes-de-alava/
LOCATION:ARABA
CATEGORIES:General
END:VEVENT
END:VCALENDAR