BEGIN:VCALENDAR
VERSION:2.0
PRODID:-//EUDEL Noticias | Asociación de Municipios Vascos - ECPv6.5.1.3//NONSGML v1.0//EN
CALSCALE:GREGORIAN
METHOD:PUBLISH
X-ORIGINAL-URL:https://noticias.eudel.eus
X-WR-CALDESC:Eventos para EUDEL Noticias | Asociación de Municipios Vascos
REFRESH-INTERVAL;VALUE=DURATION:PT1H
X-Robots-Tag:noindex
X-PUBLISHED-TTL:PT1H
BEGIN:VTIMEZONE
TZID:Europe/Madrid
BEGIN:DAYLIGHT
TZOFFSETFROM:+0100
TZOFFSETTO:+0200
TZNAME:CEST
DTSTART:20180325T010000
END:DAYLIGHT
BEGIN:STANDARD
TZOFFSETFROM:+0200
TZOFFSETTO:+0100
TZNAME:CET
DTSTART:20181028T010000
END:STANDARD
END:VTIMEZONE
BEGIN:VEVENT
DTSTART;TZID=Europe/Madrid:20181126T120000
DTEND;TZID=Europe/Madrid:20181126T133000
DTSTAMP:20260425T044402
CREATED:20181205T171407Z
LAST-MODIFIED:20181205T171407Z
UID:19327-1543233600-1543239000@noticias.eudel.eus
SUMMARY:12:00 h. Vitoria-Gasteiz. Jurado "Premio Emakunde a la Igualdad 2018".12:00. Vitoria-Gasteiz. “Emakunderen Berdintasun Saria 2018” delakoaren Epaimahaia.
DESCRIPTION:
URL:https://noticias.eudel.eus/evento/1200-h-vitoria-gasteiz-jurado-premio-emakunde-a-la-igualdad-2018/
LOCATION:ARABA
CATEGORIES:General
END:VEVENT
BEGIN:VEVENT
DTSTART;TZID=Europe/Madrid:20181126T160000
DTEND;TZID=Europe/Madrid:20181126T180000
DTSTAMP:20260425T044402
CREATED:20181205T171406Z
LAST-MODIFIED:20181205T171406Z
UID:19325-1543248000-1543255200@noticias.eudel.eus
SUMMARY:16:00 h. Vitoria-Gasteiz. HAKOBA KULTURA: Comisión Interinstitucional de la Cultura.16:00. Vitoria-Gasteiz. HAKOBA KULTURA: Kulturaren Erakunde Arteko Batzordea.
DESCRIPTION:
URL:https://noticias.eudel.eus/evento/1600-h-vitoria-gasteiz-hakoba-kultura-comision-interinstitucional-de-la-cultura-2/
LOCATION:ARABA
CATEGORIES:General
END:VEVENT
END:VCALENDAR