BEGIN:VCALENDAR
VERSION:2.0
PRODID:-//EUDEL Noticias | Asociación de Municipios Vascos - ECPv6.5.1.3//NONSGML v1.0//EN
CALSCALE:GREGORIAN
METHOD:PUBLISH
X-WR-CALNAME:EUDEL Noticias | Asociación de Municipios Vascos
X-ORIGINAL-URL:https://noticias.eudel.eus
X-WR-CALDESC:Eventos para EUDEL Noticias | Asociación de Municipios Vascos
REFRESH-INTERVAL;VALUE=DURATION:PT1H
X-Robots-Tag:noindex
X-PUBLISHED-TTL:PT1H
BEGIN:VTIMEZONE
TZID:Europe/Madrid
BEGIN:DAYLIGHT
TZOFFSETFROM:+0100
TZOFFSETTO:+0200
TZNAME:CEST
DTSTART:20180325T010000
END:DAYLIGHT
BEGIN:STANDARD
TZOFFSETFROM:+0200
TZOFFSETTO:+0100
TZNAME:CET
DTSTART:20181028T010000
END:STANDARD
END:VTIMEZONE
BEGIN:VEVENT
DTSTART;TZID=Europe/Madrid:20181211T120000
DTEND;TZID=Europe/Madrid:20181211T150000
DTSTAMP:20260425T031213
CREATED:20181205T171405Z
LAST-MODIFIED:20181205T171405Z
UID:19316-1544529600-1544540400@noticias.eudel.eus
SUMMARY:12:00 h. EUDEL Bilbao. “Políticas de Igualdad Locales: Claves de mejora y colaboración entre el ámbito político y técnico” 12:00. EUDEL Bilbao. “Tokiko berdintasun-politikak: horiek hobetzeko eta eremu politikoaren eta teknikoaren arteko lankidetza indartzeko gakoak”
DESCRIPTION:
URL:https://noticias.eudel.eus/evento/1200-h-eudel-bilbao-politicas-de-igualdad-locales-claves-de-mejora-y-colaboracion-entre-el-ambito-politico-y-tecnico/
LOCATION:ARABA
CATEGORIES:General
END:VEVENT
END:VCALENDAR