BEGIN:VCALENDAR
VERSION:2.0
PRODID:-//EUDEL Noticias | Asociación de Municipios Vascos - ECPv6.5.1.3//NONSGML v1.0//EN
CALSCALE:GREGORIAN
METHOD:PUBLISH
X-ORIGINAL-URL:https://noticias.eudel.eus
X-WR-CALDESC:Eventos para EUDEL Noticias | Asociación de Municipios Vascos
REFRESH-INTERVAL;VALUE=DURATION:PT1H
X-Robots-Tag:noindex
X-PUBLISHED-TTL:PT1H
BEGIN:VTIMEZONE
TZID:Europe/Madrid
BEGIN:DAYLIGHT
TZOFFSETFROM:+0100
TZOFFSETTO:+0200
TZNAME:CEST
DTSTART:20200329T010000
END:DAYLIGHT
BEGIN:STANDARD
TZOFFSETFROM:+0200
TZOFFSETTO:+0100
TZNAME:CET
DTSTART:20201025T010000
END:STANDARD
END:VTIMEZONE
BEGIN:VEVENT
DTSTART;TZID=Europe/Madrid:20200219T080000
DTEND;TZID=Europe/Madrid:20200219T170000
DTSTAMP:20260424T064347
CREATED:20200214T105330Z
LAST-MODIFIED:20200214T105714Z
UID:19590-1582099200-1582131600@noticias.eudel.eus
SUMMARY:[:es]Vitoria-Gasteiz (Palacio de Europa). Reunión informativa TDT 2ºDD Alava (municipios).[:eu]Vitoria-Gasteiz (Europa Jauregia). Informazio-bilera: TDT 2ºDD Araba (udalak).[:]
DESCRIPTION:Reunión informativa sobre cambios de canales TDT-2º Dividendo Digital (a partir de Marzo) \nMunicipios de Álava \nDía: 19 de febrero\, miércoles\nHora: 10.00- 11.00 h\nLugar: Vitoria-Gasteiz\, Palacio de Europa. Sala Barandiarán (planta cero). \nOrganizan: EUDEL-Itelazpi-EiTB\nAsistentes: Responsables políticos de los municipios de Álava: Alcaldes\, alcaldesas o concejales\, concejalas. Acompañados de personal asesor técnico o de servicios municipales. \nEl RD 391/2019 aprueba el nuevo Plan Técnico de la TDT y regula los aspectos para la liberación de canales de Televisión Terrestre (Segundo Dividendo Digital) para favorecer servicios móviles 5G. Se informará de los cambios de canal directos\, subvenciones a las comunidades de propietarios\, y fechas de encendidos de simulcast de ETB.
URL:https://noticias.eudel.eus/evento/vitoria-gasteiz-palacio-de-europa-reunion-informativa-tdt-2odd-alava-municipios/
LOCATION:Palacio Europa\, Gasteiz etorbidea\, 85 / Avda. Gasteiz\, 85\, Vitoria-Gasteiz\, Vitoria\, 01009\, España
END:VEVENT
BEGIN:VEVENT
DTSTART;TZID=Europe/Madrid:20200219T093000
DTEND;TZID=Europe/Madrid:20200219T100000
DTSTAMP:20260424T064347
CREATED:20200218T120243Z
LAST-MODIFIED:20200218T120747Z
UID:19615-1582104600-1582106400@noticias.eudel.eus
SUMMARY:[:es]Vitoria-Gasteiz. Pleno de la Comisión de Ordenación del Territorio del País Vasco[:eu]Vitoria-Gasteiz. Euskal Autonomia Erkidegoko Lurralde Antolamendurako Batzordearen Osoko Bilkura[:]
DESCRIPTION:
URL:https://noticias.eudel.eus/evento/vitoria-gasteiz-pleno-de-la-comision-de-ordenacion-del-territorio-del-pais-vasco/
END:VEVENT
BEGIN:VEVENT
DTSTART;TZID=Europe/Madrid:20200219T093000
DTEND;TZID=Europe/Madrid:20200219T100000
DTSTAMP:20260424T064347
CREATED:20200218T121000Z
LAST-MODIFIED:20200218T121406Z
UID:19619-1582104600-1582106400@noticias.eudel.eus
SUMMARY:[:es]Vitoria-Gasteiz. Comisión de Ordenación del Territorio del País Vasco. Gipuzkoa[:eu]Vitoria-Gasteiz. Euskal Autonomia Erkidegoko Lurralde Antolamendurako Batzordea[:]
DESCRIPTION:
URL:https://noticias.eudel.eus/evento/vitoria-gasteiz-comision-de-ordenacion-del-territorio-del-pais-vasco/
END:VEVENT
BEGIN:VEVENT
DTSTART;TZID=Europe/Madrid:20200219T093000
DTEND;TZID=Europe/Madrid:20200219T100000
DTSTAMP:20260424T064347
CREATED:20200218T121444Z
LAST-MODIFIED:20200218T121444Z
UID:19621-1582104600-1582106400@noticias.eudel.eus
SUMMARY:[:es]Vitoria-Gasteiz. Comisión de Ordenación del Territorio del País Vasco. [:eu]Vitoria-Gasteiz. Euskal Autonomia Erkidegoko Lurralde Antolamendurako Batzordea[:]
DESCRIPTION:
URL:https://noticias.eudel.eus/evento/vitoria-gasteiz-comision-de-ordenacion-del-territorio-del-pais-vasco-2/
END:VEVENT
END:VCALENDAR