BEGIN:VCALENDAR
VERSION:2.0
PRODID:-//EUDEL Noticias | Asociación de Municipios Vascos - ECPv6.5.1.3//NONSGML v1.0//EN
CALSCALE:GREGORIAN
METHOD:PUBLISH
X-ORIGINAL-URL:https://noticias.eudel.eus
X-WR-CALDESC:Eventos para EUDEL Noticias | Asociación de Municipios Vascos
REFRESH-INTERVAL;VALUE=DURATION:PT1H
X-Robots-Tag:noindex
X-PUBLISHED-TTL:PT1H
BEGIN:VTIMEZONE
TZID:Europe/Madrid
BEGIN:DAYLIGHT
TZOFFSETFROM:+0100
TZOFFSETTO:+0200
TZNAME:CEST
DTSTART:20200329T010000
END:DAYLIGHT
BEGIN:STANDARD
TZOFFSETFROM:+0200
TZOFFSETTO:+0100
TZNAME:CET
DTSTART:20201025T010000
END:STANDARD
END:VTIMEZONE
BEGIN:VEVENT
DTSTART;TZID=Europe/Madrid:20200427T163000
DTEND;TZID=Europe/Madrid:20200427T180000
DTSTAMP:20260423T221017
CREATED:20200424T111147Z
LAST-MODIFIED:20200424T111147Z
UID:20062-1588005000-1588010400@noticias.eudel.eus
SUMMARY:[:es]Consejo Asesor Atención Primaria[:eu]Lehen mailako arretako aholku kontseilua.[:]
DESCRIPTION:
URL:https://noticias.eudel.eus/evento/consejo-asesor-atencion-primaria/
LOCATION:Reunión por viodeoconferencia
END:VEVENT
END:VCALENDAR