BEGIN:VCALENDAR
VERSION:2.0
PRODID:-//EUDEL Noticias | Asociación de Municipios Vascos - ECPv6.5.1.3//NONSGML v1.0//EN
CALSCALE:GREGORIAN
METHOD:PUBLISH
X-ORIGINAL-URL:https://noticias.eudel.eus
X-WR-CALDESC:Eventos para EUDEL Noticias | Asociación de Municipios Vascos
REFRESH-INTERVAL;VALUE=DURATION:PT1H
X-Robots-Tag:noindex
X-PUBLISHED-TTL:PT1H
BEGIN:VTIMEZONE
TZID:Europe/Madrid
BEGIN:DAYLIGHT
TZOFFSETFROM:+0100
TZOFFSETTO:+0200
TZNAME:CEST
DTSTART:20200329T010000
END:DAYLIGHT
BEGIN:STANDARD
TZOFFSETFROM:+0200
TZOFFSETTO:+0100
TZNAME:CET
DTSTART:20201025T010000
END:STANDARD
END:VTIMEZONE
BEGIN:VEVENT
DTSTART;TZID=Europe/Madrid:20200514T100000
DTEND;TZID=Europe/Madrid:20200514T120000
DTSTAMP:20260423T233929
CREATED:20200512T104623Z
LAST-MODIFIED:20200512T104623Z
UID:20182-1589450400-1589457600@noticias.eudel.eus
SUMMARY:[:es]Comisión Ejecutiva de EUDEL.[:eu]EUDELeko Batzorde Eragilea.[:]
DESCRIPTION:
URL:https://noticias.eudel.eus/evento/comision-ejecutiva-de-eudel-2/
LOCATION:Reunión por viodeoconferencia
END:VEVENT
BEGIN:VEVENT
DTSTART;TZID=Europe/Madrid:20200514T133000
DTEND;TZID=Europe/Madrid:20200514T150000
DTSTAMP:20260423T233929
CREATED:20200512T104739Z
LAST-MODIFIED:20200513T133935Z
UID:20185-1589463000-1589468400@noticias.eudel.eus
SUMMARY:[:es]Comisión Territorial de Gipuzkoa de EUDEL[:eu]EUDELeko Gipuzkoako Lurralde Batzordea[:]
DESCRIPTION:
URL:https://noticias.eudel.eus/evento/comision-territorial-de-gipuzkoa-de-eudel/
LOCATION:Reunión por viodeoconferencia
END:VEVENT
END:VCALENDAR