BEGIN:VCALENDAR
VERSION:2.0
PRODID:-//EUDEL Noticias | Asociación de Municipios Vascos - ECPv6.5.1.3//NONSGML v1.0//EN
CALSCALE:GREGORIAN
METHOD:PUBLISH
X-WR-CALNAME:EUDEL Noticias | Asociación de Municipios Vascos
X-ORIGINAL-URL:https://noticias.eudel.eus/eu
X-WR-CALDESC:Events for EUDEL Noticias | Asociación de Municipios Vascos
REFRESH-INTERVAL;VALUE=DURATION:PT1H
X-Robots-Tag:noindex
X-PUBLISHED-TTL:PT1H
BEGIN:VTIMEZONE
TZID:Europe/Madrid
BEGIN:DAYLIGHT
TZOFFSETFROM:+0100
TZOFFSETTO:+0200
TZNAME:CEST
DTSTART:20200329T010000
END:DAYLIGHT
BEGIN:STANDARD
TZOFFSETFROM:+0200
TZOFFSETTO:+0100
TZNAME:CET
DTSTART:20201025T010000
END:STANDARD
END:VTIMEZONE
BEGIN:VEVENT
DTSTART;TZID=Europe/Madrid:20200615T180000
DTEND;TZID=Europe/Madrid:20200615T190000
DTSTAMP:20260423T191158
CREATED:20200612T121807Z
LAST-MODIFIED:20200612T121807Z
UID:20348-1592244000-1592247600@noticias.eudel.eus
SUMMARY:[:es]Consejo Territorial del Deporte Escolar.[:eu]Arabako Eskola Kirolaren Lurralde Kontseilua.[:]
DESCRIPTION:
URL:https://noticias.eudel.eus/eu/evento/consejo-territorial-del-deporte-escolar/
LOCATION:Vitoria-Gasteiz\, ARABA
END:VEVENT
END:VCALENDAR