BEGIN:VCALENDAR
VERSION:2.0
PRODID:-//EUDEL Noticias | Asociación de Municipios Vascos - ECPv6.5.1.3//NONSGML v1.0//EN
CALSCALE:GREGORIAN
METHOD:PUBLISH
X-ORIGINAL-URL:https://noticias.eudel.eus/eu
X-WR-CALDESC:Events for EUDEL Noticias | Asociación de Municipios Vascos
REFRESH-INTERVAL;VALUE=DURATION:PT1H
X-Robots-Tag:noindex
X-PUBLISHED-TTL:PT1H
BEGIN:VTIMEZONE
TZID:Europe/Madrid
BEGIN:DAYLIGHT
TZOFFSETFROM:+0100
TZOFFSETTO:+0200
TZNAME:CEST
DTSTART:20200329T010000
END:DAYLIGHT
BEGIN:STANDARD
TZOFFSETFROM:+0200
TZOFFSETTO:+0100
TZNAME:CET
DTSTART:20201025T010000
END:STANDARD
END:VTIMEZONE
BEGIN:VEVENT
DTSTART;TZID=Europe/Madrid:20200911T153000
DTEND;TZID=Europe/Madrid:20200911T170000
DTSTAMP:20260423T130849
CREATED:20200911T063526Z
LAST-MODIFIED:20200911T063526Z
UID:20588-1599838200-1599843600@noticias.eudel.eus
SUMMARY:[:es]Reunión con Consejero de Educación[:eu]Hezkuntza sailburuarekin bilera[:]
DESCRIPTION:
URL:https://noticias.eudel.eus/eu/evento/reunion-con-consejero-de-educacion/
LOCATION:Vitoria-Gasteiz\, ARABA
END:VEVENT
END:VCALENDAR