BEGIN:VCALENDAR
VERSION:2.0
PRODID:-//EUDEL Noticias | Asociación de Municipios Vascos - ECPv6.5.1.3//NONSGML v1.0//EN
CALSCALE:GREGORIAN
METHOD:PUBLISH
X-ORIGINAL-URL:https://noticias.eudel.eus
X-WR-CALDESC:Eventos para EUDEL Noticias | Asociación de Municipios Vascos
REFRESH-INTERVAL;VALUE=DURATION:PT1H
X-Robots-Tag:noindex
X-PUBLISHED-TTL:PT1H
BEGIN:VTIMEZONE
TZID:Europe/Madrid
BEGIN:DAYLIGHT
TZOFFSETFROM:+0100
TZOFFSETTO:+0200
TZNAME:CEST
DTSTART:20200329T010000
END:DAYLIGHT
BEGIN:STANDARD
TZOFFSETFROM:+0200
TZOFFSETTO:+0100
TZNAME:CET
DTSTART:20201025T010000
END:STANDARD
END:VTIMEZONE
BEGIN:VEVENT
DTSTART;TZID=Europe/Madrid:20200917T090000
DTEND;TZID=Europe/Madrid:20200917T103000
DTSTAMP:20260423T130807
CREATED:20200911T063702Z
LAST-MODIFIED:20200911T064110Z
UID:20590-1600333200-1600338600@noticias.eudel.eus
SUMMARY:[:es]Comisión Territorial de Bizkaia[:eu]Bizkaiko Lurralde Batzordea[:]
DESCRIPTION:
URL:https://noticias.eudel.eus/evento/comision-territorial-de-bizkaia/
LOCATION:Reunión por viodeoconferencia
END:VEVENT
BEGIN:VEVENT
DTSTART;TZID=Europe/Madrid:20200917T133000
DTEND;TZID=Europe/Madrid:20200917T143000
DTSTAMP:20260423T130807
CREATED:20200911T063810Z
LAST-MODIFIED:20200911T063810Z
UID:20592-1600349400-1600353000@noticias.eudel.eus
SUMMARY:[:es]Comisión Territorial de Álava[:eu]Arabako Lurralde Batzordea[:]
DESCRIPTION:
URL:https://noticias.eudel.eus/evento/comision-territorial-de-alava/
LOCATION:Reunión por viodeoconferencia
END:VEVENT
END:VCALENDAR