BEGIN:VCALENDAR
VERSION:2.0
PRODID:-//EUDEL Noticias | Asociación de Municipios Vascos - ECPv6.5.1.3//NONSGML v1.0//EN
CALSCALE:GREGORIAN
METHOD:PUBLISH
X-ORIGINAL-URL:https://noticias.eudel.eus/en
X-WR-CALDESC:Events for EUDEL Noticias | Asociación de Municipios Vascos
REFRESH-INTERVAL;VALUE=DURATION:PT1H
X-Robots-Tag:noindex
X-PUBLISHED-TTL:PT1H
BEGIN:VTIMEZONE
TZID:Europe/Madrid
BEGIN:DAYLIGHT
TZOFFSETFROM:+0100
TZOFFSETTO:+0200
TZNAME:CEST
DTSTART:20200329T010000
END:DAYLIGHT
BEGIN:STANDARD
TZOFFSETFROM:+0200
TZOFFSETTO:+0100
TZNAME:CET
DTSTART:20201025T010000
END:STANDARD
END:VTIMEZONE
BEGIN:VEVENT
DTSTART;TZID=Europe/Madrid:20201016T093000
DTEND;TZID=Europe/Madrid:20201016T133000
DTSTAMP:20260423T101517
CREATED:20200909T113255Z
LAST-MODIFIED:20200910T111837Z
UID:20561-1602840600-1602855000@noticias.eudel.eus
SUMMARY:[:es]XIV edición Seminario Vasco de Derecho Local. Sesión segunda: Actualidad jurisprudencial y normativa en materia de procedimiento administrativo y administración electrónica.[:eu]XIV edizioa Tokiko Zuzenbidearen Euskal Mintegia. Bigarren saioa: Actualidad jurisprudencial y normativa en materia de procedimiento administrativo y administración electrónica.[:]
DESCRIPTION:
URL:https://noticias.eudel.eus/en/evento/xiv-edicion-seminario-vasco-de-derecho-local-sesion-segunda-actualidad-jurisprudencial-y-normativa-en-materia-de-procedimiento-administrativo-y-administracion-electronica/
LOCATION:A través de la Plataforma Zoom
END:VEVENT
END:VCALENDAR