BEGIN:VCALENDAR
VERSION:2.0
PRODID:-//EUDEL Noticias | Asociación de Municipios Vascos - ECPv6.5.1.3//NONSGML v1.0//EN
CALSCALE:GREGORIAN
METHOD:PUBLISH
X-ORIGINAL-URL:https://noticias.eudel.eus/eu
X-WR-CALDESC:Events for EUDEL Noticias | Asociación de Municipios Vascos
REFRESH-INTERVAL;VALUE=DURATION:PT1H
X-Robots-Tag:noindex
X-PUBLISHED-TTL:PT1H
BEGIN:VTIMEZONE
TZID:Europe/Madrid
BEGIN:DAYLIGHT
TZOFFSETFROM:+0100
TZOFFSETTO:+0200
TZNAME:CEST
DTSTART:20200329T010000
END:DAYLIGHT
BEGIN:STANDARD
TZOFFSETFROM:+0200
TZOFFSETTO:+0100
TZNAME:CET
DTSTART:20201025T010000
END:STANDARD
END:VTIMEZONE
BEGIN:VEVENT
DTSTART;TZID=Europe/Madrid:20201109T163000
DTEND;TZID=Europe/Madrid:20201109T193000
DTSTAMP:20260423T082811
CREATED:20200903T123406Z
LAST-MODIFIED:20201030T111756Z
UID:20556-1604939400-1604950200@noticias.eudel.eus
SUMMARY:[:es]Curso Basqueskola: Coachig y Liderazgo[:eu]Basqueskola ikastaroa: Coaching eta Lidergoa[:]
DESCRIPTION:
URL:https://noticias.eudel.eus/eu/evento/curso-basqueskola-coachig-y-liderazgo-5/
LOCATION:EUDEL Bilbao (Plaza del Ensanche\, 5)\, Zabalgune plaza 5 / Plaza del Ensanche 5\, BILBAO\, 48009
END:VEVENT
END:VCALENDAR