BEGIN:VCALENDAR
VERSION:2.0
PRODID:-//EUDEL Noticias | Asociación de Municipios Vascos - ECPv6.5.1.3//NONSGML v1.0//EN
CALSCALE:GREGORIAN
METHOD:PUBLISH
X-ORIGINAL-URL:https://noticias.eudel.eus
X-WR-CALDESC:Eventos para EUDEL Noticias | Asociación de Municipios Vascos
REFRESH-INTERVAL;VALUE=DURATION:PT1H
X-Robots-Tag:noindex
X-PUBLISHED-TTL:PT1H
BEGIN:VTIMEZONE
TZID:Europe/Madrid
BEGIN:DAYLIGHT
TZOFFSETFROM:+0100
TZOFFSETTO:+0200
TZNAME:CEST
DTSTART:20200329T010000
END:DAYLIGHT
BEGIN:STANDARD
TZOFFSETFROM:+0200
TZOFFSETTO:+0100
TZNAME:CET
DTSTART:20201025T010000
END:STANDARD
END:VTIMEZONE
BEGIN:VEVENT
DTSTART;TZID=Europe/Madrid:20201118T103000
DTEND;TZID=Europe/Madrid:20201118T110000
DTSTAMP:20260423T082836
CREATED:20201116T161512Z
LAST-MODIFIED:20201116T163808Z
UID:20916-1605695400-1605697200@noticias.eudel.eus
SUMMARY:[:es]Rueda de prensa: presentación Topaketa Beldur Barik 2020. (*Representante de EUDEL: Ángela Eguía Liñero\, alcaldesa de Gordexola)[:eu]Prentsaurrekoa: Beldur Barik 2020ko Topaketa aurkezpena. (*EUDELen ordezkaria: Ángela Eguía Liñero\, Gordexolako alkatea)[:]
DESCRIPTION:Acto: Presentación de la campaña interinstitucional Beldur Barik 2020 para la prevención de la violencia sexista entre la juventud.\n \nEl próximo miércoles\, 18 de noviembre\, Emakunde\, EUDEL y las diputaciones de Gipuzkoa\, Bizkaia y Araba presentarán en rueda de prensa la campaña Beldur Barik 2020 dirigida a la prevención de la violencia contra las mujeres entre la juventud. La entrega de premios del concurso audiovisual Beldur Barik se celebra este año en Donostia y debido a la COVID19 se podrá seguir únicamente a través de streaming. \nAsistentes: \n\nIzaskun Landaida\, Directora de Emakunde-Instituto Vasco de la Mujer\nMiren Elgarresta\, Directora de Igualdad de la Diputación Foral de Gipuzkoa\nCristina Sardui\, Secretaria técnica de políticas de género de la Diputación Foral de Bizkaia\nNerea Melgosa\, Directora de Igualdad y Derechos Humanos de la Diputación Foral de Araba\nÁngela Eguía Liñero\, Representante de EUDEL\, alcaldesa de Gordexola.
URL:https://noticias.eudel.eus/evento/rueda-de-prensa-presentacion-topaketa-beldur-barik-2020/
LOCATION:Diputación Foral de Gipuzkoa\, Gipuzkoako plaza\, z.g.\, Donostia
END:VEVENT
BEGIN:VEVENT
DTSTART;TZID=Europe/Madrid:20201118T130000
DTEND;TZID=Europe/Madrid:20201118T150000
DTSTAMP:20260423T082836
CREATED:20201113T111754Z
LAST-MODIFIED:20201113T111754Z
UID:20906-1605704400-1605711600@noticias.eudel.eus
SUMMARY:[:es]Mesa Interinstitucional de Servicios Sociales de Gipuzkoa[:eu]Gizarte Zerbitzuen Gipuzkoako Lurralde Erakunde Arteko Mahaia[:]
DESCRIPTION:
URL:https://noticias.eudel.eus/evento/mesa-interinstitucional-de-servicios-sociales-de-gipuzkoa/
LOCATION:Reunión por viodeoconferencia
END:VEVENT
BEGIN:VEVENT
DTSTART;TZID=Europe/Madrid:20201118T130000
DTEND;TZID=Europe/Madrid:20201118T150000
DTSTAMP:20260423T082836
CREATED:20201117T091518Z
LAST-MODIFIED:20201117T091518Z
UID:20924-1605704400-1605711600@noticias.eudel.eus
SUMMARY:[:es]Mesa Interinstitucional de Servicios Sociales de Gipuzkoa[:eu]Gizarte Zerbitzuen Gipuzkoako Lurralde Erakunde Arteko Mahaia[:]
DESCRIPTION:
URL:https://noticias.eudel.eus/evento/mesa-interinstitucional-de-servicios-sociales-de-gipuzkoa-2/
LOCATION:Reunión por viodeoconferencia
END:VEVENT
END:VCALENDAR