BEGIN:VCALENDAR
VERSION:2.0
PRODID:-//EUDEL Noticias | Asociación de Municipios Vascos - ECPv6.5.1.3//NONSGML v1.0//EN
CALSCALE:GREGORIAN
METHOD:PUBLISH
X-ORIGINAL-URL:https://noticias.eudel.eus
X-WR-CALDESC:Eventos para EUDEL Noticias | Asociación de Municipios Vascos
REFRESH-INTERVAL;VALUE=DURATION:PT1H
X-Robots-Tag:noindex
X-PUBLISHED-TTL:PT1H
BEGIN:VTIMEZONE
TZID:Europe/Madrid
BEGIN:DAYLIGHT
TZOFFSETFROM:+0100
TZOFFSETTO:+0200
TZNAME:CEST
DTSTART:20200329T010000
END:DAYLIGHT
BEGIN:STANDARD
TZOFFSETFROM:+0200
TZOFFSETTO:+0100
TZNAME:CET
DTSTART:20201025T010000
END:STANDARD
END:VTIMEZONE
BEGIN:VEVENT
DTSTART;TZID=Europe/Madrid:20201124T100000
DTEND;TZID=Europe/Madrid:20201124T110000
DTSTAMP:20260423T082835
CREATED:20201113T110702Z
LAST-MODIFIED:20201113T110702Z
UID:20898-1606212000-1606215600@noticias.eudel.eus
SUMMARY:[:es]Comisión Interinstitucional de Acción Exterior[:eu]Kanpo Harremanetarako Erakunde Arteko Batzordea[:]
DESCRIPTION:
URL:https://noticias.eudel.eus/evento/comision-interinstitucional-de-accion-exterior/
LOCATION:Reunión por viodeoconferencia
END:VEVENT
BEGIN:VEVENT
DTSTART;TZID=Europe/Madrid:20201124T100000
DTEND;TZID=Europe/Madrid:20201124T110000
DTSTAMP:20260423T082835
CREATED:20201113T110815Z
LAST-MODIFIED:20201113T111858Z
UID:20900-1606212000-1606215600@noticias.eudel.eus
SUMMARY:[:es]Comisión Interinstitucional para los servicios de prevención\, extinción de incendios y salvamento.[:eu]Suteen prebentzio eta itzalketako eta salbamenduko zerbitzuetarako erakundeen arteko batzordea[:]
DESCRIPTION:
URL:https://noticias.eudel.eus/evento/comision-interinstitucional-para-los-servicios-de-prevencion-extincion-de-incendios-y-salvamento/
LOCATION:Reunión por viodeoconferencia
END:VEVENT
END:VCALENDAR