BEGIN:VCALENDAR
VERSION:2.0
PRODID:-//EUDEL Noticias | Asociación de Municipios Vascos - ECPv6.5.1.3//NONSGML v1.0//EN
CALSCALE:GREGORIAN
METHOD:PUBLISH
X-WR-CALNAME:EUDEL Noticias | Asociación de Municipios Vascos
X-ORIGINAL-URL:https://noticias.eudel.eus/eu
X-WR-CALDESC:Events for EUDEL Noticias | Asociación de Municipios Vascos
REFRESH-INTERVAL;VALUE=DURATION:PT1H
X-Robots-Tag:noindex
X-PUBLISHED-TTL:PT1H
BEGIN:VTIMEZONE
TZID:Europe/Madrid
BEGIN:DAYLIGHT
TZOFFSETFROM:+0100
TZOFFSETTO:+0200
TZNAME:CEST
DTSTART:20200329T010000
END:DAYLIGHT
BEGIN:STANDARD
TZOFFSETFROM:+0200
TZOFFSETTO:+0100
TZNAME:CET
DTSTART:20201025T010000
END:STANDARD
END:VTIMEZONE
BEGIN:VEVENT
DTSTART;TZID=Europe/Madrid:20201222T110000
DTEND;TZID=Europe/Madrid:20201222T120000
DTSTAMP:20260423T045718
CREATED:20201217T132218Z
LAST-MODIFIED:20201218T141926Z
UID:21107-1608634800-1608638400@noticias.eudel.eus
SUMMARY:[:es]Consejo Vasco de Inclusión Social[:eu]Gizarteratzeko Euskal Kontseilua.[:]
DESCRIPTION:
URL:https://noticias.eudel.eus/eu/evento/consejo-vasco-de-inclusion-social/
LOCATION:Bideokonferentziaren bitartez bilera
END:VEVENT
BEGIN:VEVENT
DTSTART;TZID=Europe/Madrid:20201222T110000
DTEND;TZID=Europe/Madrid:20201222T120000
DTSTAMP:20260423T045718
CREATED:20201217T133422Z
LAST-MODIFIED:20201217T133422Z
UID:21109-1608634800-1608638400@noticias.eudel.eus
SUMMARY:[:es]Comisión Interinstitucional de Exclusión Social[:eu]Gizarte Bazterkeriaren Erakunde Arteko Batzordea[:]
DESCRIPTION:
URL:https://noticias.eudel.eus/eu/evento/comision-interinstitucional-de-exclusion-social/
LOCATION:Vitoria-Gasteiz\, ARABA
END:VEVENT
BEGIN:VEVENT
DTSTART;TZID=Europe/Madrid:20201222T163000
DTEND;TZID=Europe/Madrid:20201222T180000
DTSTAMP:20260423T045718
CREATED:20201218T141804Z
LAST-MODIFIED:20201218T141804Z
UID:21116-1608654600-1608660000@noticias.eudel.eus
SUMMARY:[:es]Consejo Rector de la Academía Vasca de Policía y Emergencias[:eu]Euskal Herriko Polizi Ikastegiaren Artezkaritza eta larrialdietako Kontseilua.[:]
DESCRIPTION:
URL:https://noticias.eudel.eus/eu/evento/consejo-rector-de-la-academia-vasca-de-policia-y-emergencias-2/
LOCATION:Bideokonferentziaren bitartez bilera
END:VEVENT
END:VCALENDAR