BEGIN:VCALENDAR
VERSION:2.0
PRODID:-//EUDEL Noticias | Asociación de Municipios Vascos - ECPv6.5.1.3//NONSGML v1.0//EN
CALSCALE:GREGORIAN
METHOD:PUBLISH
X-WR-CALNAME:EUDEL Noticias | Asociación de Municipios Vascos
X-ORIGINAL-URL:https://noticias.eudel.eus
X-WR-CALDESC:Eventos para EUDEL Noticias | Asociación de Municipios Vascos
REFRESH-INTERVAL;VALUE=DURATION:PT1H
X-Robots-Tag:noindex
X-PUBLISHED-TTL:PT1H
BEGIN:VTIMEZONE
TZID:Europe/Madrid
BEGIN:DAYLIGHT
TZOFFSETFROM:+0100
TZOFFSETTO:+0200
TZNAME:CEST
DTSTART:20210328T010000
END:DAYLIGHT
BEGIN:STANDARD
TZOFFSETFROM:+0200
TZOFFSETTO:+0100
TZNAME:CET
DTSTART:20211031T010000
END:STANDARD
END:VTIMEZONE
BEGIN:VEVENT
DTSTART;TZID=Europe/Madrid:20210204T150000
DTEND;TZID=Europe/Madrid:20210204T163000
DTSTAMP:20260423T000833
CREATED:20210111T074239Z
LAST-MODIFIED:20210111T074239Z
UID:21132-1612450800-1612456200@noticias.eudel.eus
SUMMARY:[:es]Comisión Igualdad EUDEL[:eu]Berdintasun Batzordea EUDEL[:en]Co[:]
DESCRIPTION:
URL:https://noticias.eudel.eus/evento/comision-igualdad-eudel/
LOCATION:Reunión por viodeoconferencia
END:VEVENT
END:VCALENDAR