BEGIN:VCALENDAR
VERSION:2.0
PRODID:-//EUDEL Noticias | Asociación de Municipios Vascos - ECPv6.5.1.3//NONSGML v1.0//EN
CALSCALE:GREGORIAN
METHOD:PUBLISH
X-WR-CALNAME:EUDEL Noticias | Asociación de Municipios Vascos
X-ORIGINAL-URL:https://noticias.eudel.eus
X-WR-CALDESC:Eventos para EUDEL Noticias | Asociación de Municipios Vascos
REFRESH-INTERVAL;VALUE=DURATION:PT1H
X-Robots-Tag:noindex
X-PUBLISHED-TTL:PT1H
BEGIN:VTIMEZONE
TZID:Europe/Madrid
BEGIN:DAYLIGHT
TZOFFSETFROM:+0100
TZOFFSETTO:+0200
TZNAME:CEST
DTSTART:20210328T010000
END:DAYLIGHT
BEGIN:STANDARD
TZOFFSETFROM:+0200
TZOFFSETTO:+0100
TZNAME:CET
DTSTART:20211031T010000
END:STANDARD
END:VTIMEZONE
BEGIN:VEVENT
DTSTART;TZID=Europe/Madrid:20210212T120000
DTEND;TZID=Europe/Madrid:20210212T140000
DTSTAMP:20260422T234536
CREATED:20210205T093025Z
LAST-MODIFIED:20210205T093103Z
UID:21194-1613131200-1613138400@noticias.eudel.eus
SUMMARY:[:es]Consejo Vasco de Finanzas Públicas[:eu]Herri-Dirubideen Euskal Kontseilua.[:]
DESCRIPTION:
URL:https://noticias.eudel.eus/evento/1200-h-vitoria-gasteiz-consejo-vasco-de-finanzas-publicas/
LOCATION:Vitoria-Gasteiz\, ARABA
END:VEVENT
END:VCALENDAR