BEGIN:VCALENDAR
VERSION:2.0
PRODID:-//EUDEL Noticias | Asociación de Municipios Vascos - ECPv6.5.1.3//NONSGML v1.0//EN
CALSCALE:GREGORIAN
METHOD:PUBLISH
X-WR-CALNAME:EUDEL Noticias | Asociación de Municipios Vascos
X-ORIGINAL-URL:https://noticias.eudel.eus
X-WR-CALDESC:Eventos para EUDEL Noticias | Asociación de Municipios Vascos
REFRESH-INTERVAL;VALUE=DURATION:PT1H
X-Robots-Tag:noindex
X-PUBLISHED-TTL:PT1H
BEGIN:VTIMEZONE
TZID:Europe/Madrid
BEGIN:DAYLIGHT
TZOFFSETFROM:+0100
TZOFFSETTO:+0200
TZNAME:CEST
DTSTART:20210328T010000
END:DAYLIGHT
BEGIN:STANDARD
TZOFFSETFROM:+0200
TZOFFSETTO:+0100
TZNAME:CET
DTSTART:20211031T010000
END:STANDARD
END:VTIMEZONE
BEGIN:VEVENT
DTSTART;TZID=Europe/Madrid:20210324T100000
DTEND;TZID=Europe/Madrid:20210324T113000
DTSTAMP:20260422T203245
CREATED:20210318T140153Z
LAST-MODIFIED:20210318T140153Z
UID:21397-1616580000-1616585400@noticias.eudel.eus
SUMMARY:[:es] Comisión Interinstitucional para los Servicios de Prevención\, Extinción de Incendios y Salvamento[:eu] Suteen Prebentzio eta Itzalketako eta salbamenduko zerbitzuetarako erakundeen arteko batzordea[:]
DESCRIPTION:
URL:https://noticias.eudel.eus/evento/comision-interinstitucional-para-los-servicios-de-prevencion-extincion-de-incendios-y-salvamento-2/
LOCATION:Reunión por viodeoconferencia
END:VEVENT
BEGIN:VEVENT
DTSTART;TZID=Europe/Madrid:20210324T100000
DTEND;TZID=Europe/Madrid:20210324T113000
DTSTAMP:20260422T203245
CREATED:20210318T140435Z
LAST-MODIFIED:20210318T140435Z
UID:21400-1616580000-1616585400@noticias.eudel.eus
SUMMARY:[:es] Comisión de Garantías de Admisión de Alumnos de Bizkaia[:eu]Bizkaiko Ikasleen Onarpen Bermerako Batzordea.[:]
DESCRIPTION:
URL:https://noticias.eudel.eus/evento/comision-de-garantias-de-admision-de-alumnos-de-bizkaia-3/
LOCATION:Reunión por viodeoconferencia
END:VEVENT
BEGIN:VEVENT
DTSTART;TZID=Europe/Madrid:20210324T103000
DTEND;TZID=Europe/Madrid:20210324T150000
DTSTAMP:20260422T203245
CREATED:20210318T135707Z
LAST-MODIFIED:20210318T135707Z
UID:21395-1616581800-1616598000@noticias.eudel.eus
SUMMARY:[:es]Sesión Plenaria Congreso de Poderes Locales y Regionales del Consejo de Europa (CPLRE)[:eu]Europako Kontseiluaren Tokiko eta Eskualdeko Botereen Biltzarraren osoko bilkura (CPLRE)[:]
DESCRIPTION:
URL:https://noticias.eudel.eus/evento/sesion-plenaria-congreso-de-poderes-locales-y-regionales-del-consejo-de-europa-cplre-2/
END:VEVENT
END:VCALENDAR