BEGIN:VCALENDAR
VERSION:2.0
PRODID:-//EUDEL Noticias | Asociación de Municipios Vascos - ECPv6.5.1.3//NONSGML v1.0//EN
CALSCALE:GREGORIAN
METHOD:PUBLISH
X-ORIGINAL-URL:https://noticias.eudel.eus
X-WR-CALDESC:Eventos para EUDEL Noticias | Asociación de Municipios Vascos
REFRESH-INTERVAL;VALUE=DURATION:PT1H
X-Robots-Tag:noindex
X-PUBLISHED-TTL:PT1H
BEGIN:VTIMEZONE
TZID:Europe/Madrid
BEGIN:DAYLIGHT
TZOFFSETFROM:+0100
TZOFFSETTO:+0200
TZNAME:CEST
DTSTART:20210328T010000
END:DAYLIGHT
BEGIN:STANDARD
TZOFFSETFROM:+0200
TZOFFSETTO:+0100
TZNAME:CET
DTSTART:20211031T010000
END:STANDARD
END:VTIMEZONE
BEGIN:VEVENT
DTSTART;TZID=Europe/Madrid:20210505T123000
DTEND;TZID=Europe/Madrid:20210505T143000
DTSTAMP:20260422T172243
CREATED:20210507T082953Z
LAST-MODIFIED:20210507T082953Z
UID:21500-1620217800-1620225000@noticias.eudel.eus
SUMMARY:[:es]Encuentro online de personal técnico de igualdad de los municipios de Berdinsarea[:eu]Berdinsareako udalerrietako berdintasun-teknikarien online topaketa[:]
DESCRIPTION:
URL:https://noticias.eudel.eus/evento/encuentro-online-de-personal-tecnico-de-igualdad-de-los-municipios-de-berdinsarea/
LOCATION:A través de la Plataforma Zoom
END:VEVENT
END:VCALENDAR