BEGIN:VCALENDAR
VERSION:2.0
PRODID:-//EUDEL Noticias | Asociación de Municipios Vascos - ECPv6.5.1.3//NONSGML v1.0//EN
CALSCALE:GREGORIAN
METHOD:PUBLISH
X-ORIGINAL-URL:https://noticias.eudel.eus
X-WR-CALDESC:Eventos para EUDEL Noticias | Asociación de Municipios Vascos
REFRESH-INTERVAL;VALUE=DURATION:PT1H
X-Robots-Tag:noindex
X-PUBLISHED-TTL:PT1H
BEGIN:VTIMEZONE
TZID:Europe/Madrid
BEGIN:DAYLIGHT
TZOFFSETFROM:+0100
TZOFFSETTO:+0200
TZNAME:CEST
DTSTART:20210328T010000
END:DAYLIGHT
BEGIN:STANDARD
TZOFFSETFROM:+0200
TZOFFSETTO:+0100
TZNAME:CET
DTSTART:20211031T010000
END:STANDARD
END:VTIMEZONE
BEGIN:VEVENT
DTSTART;TZID=Europe/Madrid:20210531T100000
DTEND;TZID=Europe/Madrid:20210531T110000
DTSTAMP:20260422T140914
CREATED:20210528T104617Z
LAST-MODIFIED:20210528T105347Z
UID:21590-1622455200-1622458800@noticias.eudel.eus
SUMMARY:[:es]Presentación del Convenio de colaboración Kontsumobide-EUDEL[:eu]Kontsumobide-EUDEL lankidetza-hitzarmenaren aurkezpena[:]
DESCRIPTION:Fecha: Lunes 31 de mayo de 2021. \nHora: 10:00 horas. \nLugar: Plaza del Ayuntamiento\, Erandio (plaza irailaren 23). \nJavier Hurtado\, Consejero de Turismo\, Comercio y Consumo. \nGorka Urtaran\, Presidente de EUDEL. \nAitziber Oliban\, Alcaldesa de Erandio.
URL:https://noticias.eudel.eus/evento/presentacion-del-convenio-de-colaboracion-kontsumobide-eudel/
LOCATION:Erandioko udala/Ayto. Erandio\, iralaren 23 plaza\, Erandio\, Bizkaia\, 48950
END:VEVENT
END:VCALENDAR