BEGIN:VCALENDAR
VERSION:2.0
PRODID:-//EUDEL Noticias | Asociación de Municipios Vascos - ECPv6.5.1.3//NONSGML v1.0//EN
CALSCALE:GREGORIAN
METHOD:PUBLISH
X-ORIGINAL-URL:https://noticias.eudel.eus
X-WR-CALDESC:Eventos para EUDEL Noticias | Asociación de Municipios Vascos
REFRESH-INTERVAL;VALUE=DURATION:PT1H
X-Robots-Tag:noindex
X-PUBLISHED-TTL:PT1H
BEGIN:VTIMEZONE
TZID:Europe/Madrid
BEGIN:DAYLIGHT
TZOFFSETFROM:+0100
TZOFFSETTO:+0200
TZNAME:CEST
DTSTART:20210328T010000
END:DAYLIGHT
BEGIN:STANDARD
TZOFFSETFROM:+0200
TZOFFSETTO:+0100
TZNAME:CET
DTSTART:20211031T010000
END:STANDARD
END:VTIMEZONE
BEGIN:VEVENT
DTSTART;TZID=Europe/Madrid:20210709T110000
DTEND;TZID=Europe/Madrid:20210709T130000
DTSTAMP:20260422T122027
CREATED:20210708T065339Z
LAST-MODIFIED:20210708T065853Z
UID:22022-1625828400-1625835600@noticias.eudel.eus
SUMMARY:[:es]Curso Eurobasque Futuro Europa.[:eu]Eurobasqueko Udako ikastaroa Europako etorkizuna[:]
DESCRIPTION:La Directora de EUDEL\, Mª del Mar Zabala\, participa en el curso de verano organizado por Eurobasque.\n \nEl futuro de la Unión Europea: una visión desde Euskadi. Aportaciones a la Conferencia \nDía 9 de julio\, de 11:40 a 13:30\, bloque 4\, “El Encaje de Euskadi en la Unión federal”. \n  \n9 de Julio. BLOQUE 4: El encaje de Euskadi en la Unión federal \n  \n11:00 – 11:15 “El poder local vasco en Europa“ \nMaría del Mar Zabala Mardaras EUDEL – Directora general – Zuzendari nagusia \n  \n11:15 – 11:40 “El encaje de Euskadi en Europa a través de la Eurorregión Nueva Aquitania-Euskadi- \nNavarra“Arola Urdangarin Ferreira \nEurorregión Nueva Aquitania-Euskadi-Navarra – Directora \nGeneral. (Esta ponente intervendrá vía ZOOM) \n  \n11:40 – 12:00 “Por un lugar para las Regiones en el sistema institucional y de decisión en la UE“ \nAlberto López Basaguren UPV/EHU – Catedrático Derecho Constitucional
URL:https://noticias.eudel.eus/evento/curso-eurobasque-futuro-europa/
LOCATION:Palacio Miramar\, DONOSTIA/SAN SEBASTIÁN
END:VEVENT
END:VCALENDAR