BEGIN:VCALENDAR
VERSION:2.0
PRODID:-//EUDEL Noticias | Asociación de Municipios Vascos - ECPv6.5.1.3//NONSGML v1.0//EN
CALSCALE:GREGORIAN
METHOD:PUBLISH
X-ORIGINAL-URL:https://noticias.eudel.eus/eu
X-WR-CALDESC:Events for EUDEL Noticias | Asociación de Municipios Vascos
REFRESH-INTERVAL;VALUE=DURATION:PT1H
X-Robots-Tag:noindex
X-PUBLISHED-TTL:PT1H
BEGIN:VTIMEZONE
TZID:Europe/Madrid
BEGIN:DAYLIGHT
TZOFFSETFROM:+0100
TZOFFSETTO:+0200
TZNAME:CEST
DTSTART:20210328T010000
END:DAYLIGHT
BEGIN:STANDARD
TZOFFSETFROM:+0200
TZOFFSETTO:+0100
TZNAME:CET
DTSTART:20211031T010000
END:STANDARD
END:VTIMEZONE
BEGIN:VEVENT
DTSTART;TZID=Europe/Madrid:20210714T093000
DTEND;TZID=Europe/Madrid:20210714T103000
DTSTAMP:20260422T122030
CREATED:20210712T082320Z
LAST-MODIFIED:20210712T082320Z
UID:22038-1626255000-1626258600@noticias.eudel.eus
SUMMARY:[:es]Comisión de Ordenación del Territorio del País Vasco[:eu]Euskal Autonomia Erkidegoko Lurralde Antolamendurako Batzordea[:]
DESCRIPTION:
URL:https://noticias.eudel.eus/eu/evento/comision-de-ordenacion-del-territorio-del-pais-vasco-4/
LOCATION:Bideokonferentziaren bitartez bilera
END:VEVENT
BEGIN:VEVENT
DTSTART;TZID=Europe/Madrid:20210714T103000
DTEND;TZID=Europe/Madrid:20210714T110000
DTSTAMP:20260422T122030
CREATED:20210712T082542Z
LAST-MODIFIED:20210712T082604Z
UID:22040-1626258600-1626260400@noticias.eudel.eus
SUMMARY:[:es]Comisión de Ordenación del Territorio del País Vasco. Álava.[:eu]Euskal Autonomia Erkidegoko Lurralde Antolamendurako Batzordea. Araba.[:]
DESCRIPTION:
URL:https://noticias.eudel.eus/eu/evento/comision-de-ordenacion-del-territorio-del-pais-vasco-alava-2/
LOCATION:Bideokonferentziaren bitartez bilera
END:VEVENT
BEGIN:VEVENT
DTSTART;TZID=Europe/Madrid:20210714T103000
DTEND;TZID=Europe/Madrid:20210714T110000
DTSTAMP:20260422T122030
CREATED:20210712T082721Z
LAST-MODIFIED:20210712T082721Z
UID:22042-1626258600-1626260400@noticias.eudel.eus
SUMMARY:[:es]Comisión de Ordenación del Territorio del País Vasco. Gipuzkoa.[:eu]Euskal Autonomia Erkidegoko Lurralde Antolamendurako Batzordea. Gipuzkoa.[:]
DESCRIPTION:
URL:https://noticias.eudel.eus/eu/evento/comision-de-ordenacion-del-territorio-del-pais-vasco-gipuzkoa-2/
LOCATION:Bideokonferentziaren bitartez bilera
END:VEVENT
END:VCALENDAR