BEGIN:VCALENDAR
VERSION:2.0
PRODID:-//EUDEL Noticias | Asociación de Municipios Vascos - ECPv6.5.1.3//NONSGML v1.0//EN
CALSCALE:GREGORIAN
METHOD:PUBLISH
X-ORIGINAL-URL:https://noticias.eudel.eus
X-WR-CALDESC:Eventos para EUDEL Noticias | Asociación de Municipios Vascos
REFRESH-INTERVAL;VALUE=DURATION:PT1H
X-Robots-Tag:noindex
X-PUBLISHED-TTL:PT1H
BEGIN:VTIMEZONE
TZID:Europe/Madrid
BEGIN:DAYLIGHT
TZOFFSETFROM:+0100
TZOFFSETTO:+0200
TZNAME:CEST
DTSTART:20210328T010000
END:DAYLIGHT
BEGIN:STANDARD
TZOFFSETFROM:+0200
TZOFFSETTO:+0100
TZNAME:CET
DTSTART:20211031T010000
END:STANDARD
END:VTIMEZONE
BEGIN:VEVENT
DTSTART;TZID=Europe/Madrid:20210721T090000
DTEND;TZID=Europe/Madrid:20210721T100000
DTSTAMP:20260422T122027
CREATED:20210716T090902Z
LAST-MODIFIED:20210716T090902Z
UID:22084-1626858000-1626861600@noticias.eudel.eus
SUMMARY:[:es]Consejo Territorial de Administración Local y Finanzas de Álava[:eu]Arabako Toki Administrazioko eta  Finantzetako Lurralde Kontseilua[:]
DESCRIPTION:
URL:https://noticias.eudel.eus/evento/consejo-territorial-de-administracion-local-y-finanzas-de-alava-4/
LOCATION:Reunión por viodeoconferencia
END:VEVENT
BEGIN:VEVENT
DTSTART;TZID=Europe/Madrid:20210721T103000
DTEND;TZID=Europe/Madrid:20210721T120000
DTSTAMP:20260422T122027
CREATED:20210712T063342Z
LAST-MODIFIED:20210715T102810Z
UID:22036-1626863400-1626868800@noticias.eudel.eus
SUMMARY:[:es]Comisión Territorial de Gipuzkoa de EUDEL[:eu]EUDELeko Gipuzkoako Lurralde Batzordea[:]
DESCRIPTION:
URL:https://noticias.eudel.eus/evento/comision-territorial-de-gipuzkoa-de-eudel-11/
LOCATION:Reunión por viodeoconferencia
END:VEVENT
BEGIN:VEVENT
DTSTART;TZID=Europe/Madrid:20210721T120000
DTEND;TZID=Europe/Madrid:20210721T133000
DTSTAMP:20260422T122027
CREATED:20210715T101924Z
LAST-MODIFIED:20210715T101924Z
UID:22068-1626868800-1626874200@noticias.eudel.eus
SUMMARY:[:es]Comisión Territorial de Bizkaia de EUDEL[:eu]EUDELeko Bizkaiko Lurralde Batzordea[:]
DESCRIPTION:
URL:https://noticias.eudel.eus/evento/comision-territorial-de-bizkaia-de-eudel-15/
LOCATION:Reunión por viodeoconferencia
END:VEVENT
BEGIN:VEVENT
DTSTART;TZID=Europe/Madrid:20210721T123000
DTEND;TZID=Europe/Madrid:20210721T140000
DTSTAMP:20260422T122027
CREATED:20210716T091116Z
LAST-MODIFIED:20210716T091116Z
UID:22086-1626870600-1626876000@noticias.eudel.eus
SUMMARY:[:es]Consejo Vasco para la Promoción de la Accesibilidad[:eu]Irisgarritasuna Sustatzeko Euskal Kontseilua[:]
DESCRIPTION:
URL:https://noticias.eudel.eus/evento/consejo-vasco-para-la-promocion-de-la-accesibilidad-2/
LOCATION:Reunión por viodeoconferencia
END:VEVENT
BEGIN:VEVENT
DTSTART;TZID=Europe/Madrid:20210721T140000
DTEND;TZID=Europe/Madrid:20210721T150000
DTSTAMP:20260422T122027
CREATED:20210716T104851Z
LAST-MODIFIED:20210716T104851Z
UID:22094-1626876000-1626879600@noticias.eudel.eus
SUMMARY:[:es]Mesa Interinstitucional de Servicios Sociales de Gipuzkoa[:eu]Gipuzkoako Gizarte Zerbitzuen Erakunde arteko Mahaia[:]
DESCRIPTION:
URL:https://noticias.eudel.eus/evento/mesa-interinstitucional-de-servicios-sociales-de-gipuzkoa-3/
LOCATION:Reunión por viodeoconferencia
END:VEVENT
END:VCALENDAR