BEGIN:VCALENDAR
VERSION:2.0
PRODID:-//EUDEL Noticias | Asociación de Municipios Vascos - ECPv6.5.1.3//NONSGML v1.0//EN
CALSCALE:GREGORIAN
METHOD:PUBLISH
X-WR-CALNAME:EUDEL Noticias | Asociación de Municipios Vascos
X-ORIGINAL-URL:https://noticias.eudel.eus
X-WR-CALDESC:Eventos para EUDEL Noticias | Asociación de Municipios Vascos
REFRESH-INTERVAL;VALUE=DURATION:PT1H
X-Robots-Tag:noindex
X-PUBLISHED-TTL:PT1H
BEGIN:VTIMEZONE
TZID:Europe/Madrid
BEGIN:DAYLIGHT
TZOFFSETFROM:+0100
TZOFFSETTO:+0200
TZNAME:CEST
DTSTART:20220327T010000
END:DAYLIGHT
BEGIN:STANDARD
TZOFFSETFROM:+0200
TZOFFSETTO:+0100
TZNAME:CET
DTSTART:20221030T010000
END:STANDARD
END:VTIMEZONE
BEGIN:VEVENT
DTSTART;TZID=Europe/Madrid:20220118T160000
DTEND;TZID=Europe/Madrid:20220118T170000
DTSTAMP:20260421T211034
CREATED:20210219T135706Z
LAST-MODIFIED:20220118T074906Z
UID:21273-1642521600-1642525200@noticias.eudel.eus
SUMMARY:[:es]Consejo Asesor de Relaciones con las colectividades vascas[:eu]Euskal Gizataldeekiko Harremanetarako Aholku Barzordea[:]
DESCRIPTION:
URL:https://noticias.eudel.eus/evento/consejo-asesor-de-relaciones-con-las-colectividades-vascas/
LOCATION:Vitoria-Gasteiz\, ARABA
END:VEVENT
END:VCALENDAR