BEGIN:VCALENDAR
VERSION:2.0
PRODID:-//EUDEL Noticias | Asociación de Municipios Vascos - ECPv6.5.1.3//NONSGML v1.0//EN
CALSCALE:GREGORIAN
METHOD:PUBLISH
X-ORIGINAL-URL:https://noticias.eudel.eus/eu
X-WR-CALDESC:Events for EUDEL Noticias | Asociación de Municipios Vascos
REFRESH-INTERVAL;VALUE=DURATION:PT1H
X-Robots-Tag:noindex
X-PUBLISHED-TTL:PT1H
BEGIN:VTIMEZONE
TZID:Europe/Madrid
BEGIN:DAYLIGHT
TZOFFSETFROM:+0100
TZOFFSETTO:+0200
TZNAME:CEST
DTSTART:20220327T010000
END:DAYLIGHT
BEGIN:STANDARD
TZOFFSETFROM:+0200
TZOFFSETTO:+0100
TZNAME:CET
DTSTART:20221030T010000
END:STANDARD
END:VTIMEZONE
BEGIN:VEVENT
DTSTART;TZID=Europe/Madrid:20220425T120000
DTEND;TZID=Europe/Madrid:20220425T140000
DTSTAMP:20260421T133304
CREATED:20220411T140646Z
LAST-MODIFIED:20220411T140646Z
UID:22960-1650888000-1650895200@noticias.eudel.eus
SUMMARY:[:es]BM-30: Asamblea General y XXX Aniversario[:eu]BM-30: Batzar Nagusia eta XXX. urteurrena[:]
DESCRIPTION:
URL:https://noticias.eudel.eus/eu/evento/bm-30-asamblea-general-y-xxx-aniversario/
LOCATION:Bilbao
END:VEVENT
END:VCALENDAR