BEGIN:VCALENDAR
VERSION:2.0
PRODID:-//EUDEL Noticias | Asociación de Municipios Vascos - ECPv6.5.1.3//NONSGML v1.0//EN
CALSCALE:GREGORIAN
METHOD:PUBLISH
X-WR-CALNAME:EUDEL Noticias | Asociación de Municipios Vascos
X-ORIGINAL-URL:https://noticias.eudel.eus/eu
X-WR-CALDESC:Events for EUDEL Noticias | Asociación de Municipios Vascos
REFRESH-INTERVAL;VALUE=DURATION:PT1H
X-Robots-Tag:noindex
X-PUBLISHED-TTL:PT1H
BEGIN:VTIMEZONE
TZID:Europe/Madrid
BEGIN:DAYLIGHT
TZOFFSETFROM:+0100
TZOFFSETTO:+0200
TZNAME:CEST
DTSTART:20220327T010000
END:DAYLIGHT
BEGIN:STANDARD
TZOFFSETFROM:+0200
TZOFFSETTO:+0100
TZNAME:CET
DTSTART:20221030T010000
END:STANDARD
END:VTIMEZONE
BEGIN:VEVENT
DTSTART;TZID=Europe/Madrid:20220524T120000
DTEND;TZID=Europe/Madrid:20220524T140000
DTSTAMP:20260421T133021
CREATED:20220520T094526Z
LAST-MODIFIED:20220520T094526Z
UID:23021-1653393600-1653400800@noticias.eudel.eus
SUMMARY:[:es]Bilbao Bizkaia Action Group[:eu]Bilbao Bizkaia Action Group[:]
DESCRIPTION:
URL:https://noticias.eudel.eus/eu/evento/bilbao-bizkaia-action-group-7/
LOCATION:Bilbao
END:VEVENT
BEGIN:VEVENT
DTSTART;TZID=Europe/Madrid:20220524T130000
DTEND;TZID=Europe/Madrid:20220524T143000
DTSTAMP:20260421T133022
CREATED:20220520T094653Z
LAST-MODIFIED:20220520T094653Z
UID:23023-1653397200-1653402600@noticias.eudel.eus
SUMMARY:[:es]Consejo Vasco de Atención  Sociosanitaria[:eu]Arreta Soziosanitarioko Euskal  Kontseilua[:]
DESCRIPTION:
URL:https://noticias.eudel.eus/eu/evento/consejo-vasco-de-atencion-sociosanitaria-2/
LOCATION:Bideokonferentziaren bitartez bilera
END:VEVENT
BEGIN:VEVENT
DTSTART;TZID=Europe/Madrid:20220524T153000
DTEND;TZID=Europe/Madrid:20220524T170000
DTSTAMP:20260421T133022
CREATED:20220520T094853Z
LAST-MODIFIED:20220520T094853Z
UID:23025-1653406200-1653411600@noticias.eudel.eus
SUMMARY:[:es]Consejo Vasco de Universidades [:eu]Euskadiko Unibertsitate Kontseiluak [:]
DESCRIPTION:
URL:https://noticias.eudel.eus/eu/evento/consejo-vasco-de-universidades-8/
LOCATION:Vitoria-Gasteiz\, ARABA
END:VEVENT
END:VCALENDAR