BEGIN:VCALENDAR
VERSION:2.0
PRODID:-//EUDEL Noticias | Asociación de Municipios Vascos - ECPv6.5.1.3//NONSGML v1.0//EN
CALSCALE:GREGORIAN
METHOD:PUBLISH
X-ORIGINAL-URL:https://noticias.eudel.eus
X-WR-CALDESC:Eventos para EUDEL Noticias | Asociación de Municipios Vascos
REFRESH-INTERVAL;VALUE=DURATION:PT1H
X-Robots-Tag:noindex
X-PUBLISHED-TTL:PT1H
BEGIN:VTIMEZONE
TZID:Europe/Madrid
BEGIN:DAYLIGHT
TZOFFSETFROM:+0100
TZOFFSETTO:+0200
TZNAME:CEST
DTSTART:20220327T010000
END:DAYLIGHT
BEGIN:STANDARD
TZOFFSETFROM:+0200
TZOFFSETTO:+0100
TZNAME:CET
DTSTART:20221030T010000
END:STANDARD
END:VTIMEZONE
BEGIN:VEVENT
DTSTART;TZID=Europe/Madrid:20220605T120000
DTEND;TZID=Europe/Madrid:20220605T140000
DTSTAMP:20260421T104256
CREATED:20220606T065458Z
LAST-MODIFIED:20220606T080555Z
UID:23101-1654430400-1654437600@noticias.eudel.eus
SUMMARY:[:es]Arkaute (Vitoria-Gasteiz). Acto institucional anual de homenaje a agentes de la Ertzaintza[:eu]Arkaute (Vitoria-Gasteiz). Ertzaintzaren agenteei omenetzeko urteko ekitaldi instituzionala.[:]
DESCRIPTION:Representación del Presidente de EUDEL \nCeremonia anual de entrega de condecoraciones y felicitaciones por la labor policial a quienes han realizado actos meritorios o extraordinarios\, así como de homenaje y recuerdo a las y los agentes de la Ertzaintza fallecidos en acto de servicio y asesinados por ETA.  Acto presidido por el Lehendakari.
URL:https://noticias.eudel.eus/evento/acto-institucional-anual-de-homenaje-a-agentes-de-la-erzaintza/
LOCATION:Arkaute (Vitoria-Gasteiz)
END:VEVENT
END:VCALENDAR