BEGIN:VCALENDAR
VERSION:2.0
PRODID:-//EUDEL Noticias | Asociación de Municipios Vascos - ECPv6.5.1.3//NONSGML v1.0//EN
CALSCALE:GREGORIAN
METHOD:PUBLISH
X-ORIGINAL-URL:https://noticias.eudel.eus
X-WR-CALDESC:Eventos para EUDEL Noticias | Asociación de Municipios Vascos
REFRESH-INTERVAL;VALUE=DURATION:PT1H
X-Robots-Tag:noindex
X-PUBLISHED-TTL:PT1H
BEGIN:VTIMEZONE
TZID:Europe/Madrid
BEGIN:DAYLIGHT
TZOFFSETFROM:+0100
TZOFFSETTO:+0200
TZNAME:CEST
DTSTART:20220327T010000
END:DAYLIGHT
BEGIN:STANDARD
TZOFFSETFROM:+0200
TZOFFSETTO:+0100
TZNAME:CET
DTSTART:20221030T010000
END:STANDARD
END:VTIMEZONE
BEGIN:VEVENT
DTSTART;TZID=Europe/Madrid:20220709T093000
DTEND;TZID=Europe/Madrid:20220709T133000
DTSTAMP:20260419T155955
CREATED:20220701T112543Z
LAST-MODIFIED:20220701T112543Z
UID:23344-1657359000-1657373400@noticias.eudel.eus
SUMMARY:[:es]Bilbao Ensanche. X Aniversario de BASQUESKOLA[:eu]9:30ean. Bilboko Zabalgunea. BASQUESKOLAren 10. Urteurrena[:]
DESCRIPTION:Sábado 9 de julio\, 9:30-13:30 h. Edificio Ensanche de Bilbao. \nJornada con motivo de los 10 años de la red de mujeres electas locales vascas “Virginia Woolf Basqueskola” \n“Hacia un nuevo modelo local de cuidados” \n  \nInauguración: \nGorka Urtaran\, presidente de EUDEL \nBeatriz Artolazabal\, consejera de Igualdad\, Justicia y Políticas Sociales \n  \nVer programa completo: http://www.virginiawoolfbasqueskola.eus/jornada-basqueskola-2022-hacia-un-nuevo-modelo-local-de-cuidados/
URL:https://noticias.eudel.eus/evento/bilbao-ensanche-x-aniversario-de-basqueskola/
LOCATION:Bilbao
END:VEVENT
END:VCALENDAR