BEGIN:VCALENDAR
VERSION:2.0
PRODID:-//EUDEL Noticias | Asociación de Municipios Vascos - ECPv6.5.1.3//NONSGML v1.0//EN
CALSCALE:GREGORIAN
METHOD:PUBLISH
X-ORIGINAL-URL:https://noticias.eudel.eus
X-WR-CALDESC:Eventos para EUDEL Noticias | Asociación de Municipios Vascos
REFRESH-INTERVAL;VALUE=DURATION:PT1H
X-Robots-Tag:noindex
X-PUBLISHED-TTL:PT1H
BEGIN:VTIMEZONE
TZID:Europe/Madrid
BEGIN:DAYLIGHT
TZOFFSETFROM:+0100
TZOFFSETTO:+0200
TZNAME:CEST
DTSTART:20180325T010000
END:DAYLIGHT
BEGIN:STANDARD
TZOFFSETFROM:+0200
TZOFFSETTO:+0100
TZNAME:CET
DTSTART:20181028T010000
END:STANDARD
END:VTIMEZONE
BEGIN:VEVENT
DTSTART;TZID=Europe/Madrid:20180301T110000
DTEND;TZID=Europe/Madrid:20180301T123000
DTSTAMP:20260425T171435
CREATED:20180426T153541Z
LAST-MODIFIED:20180426T153541Z
UID:18108-1519902000-1519907400@noticias.eudel.eus
SUMMARY:11:00 h. EUDEL Bilbao (c/ Ercilla\, 13). Sesión informativa 01/03/18 POLICIA LOCAL: Segundo Proceso selectivo unificado11:00. EUDEL Bilbao (Ertzilla kalea\, 13). Informazio saioa18/03/01 UDALTZAINGOA: Bigarren hautaketa-prozesu bateratua
DESCRIPTION:Organizan: EUDEL-Academia Vasca de Policía y Emergencias-Departamento de Seguridad (EJ-GV) \nDía: jueves 1 de marzoLugar: Salón de actos de EUDEL (calle Ercilla nº 13 BILBAO)Horario: 11.00-12.30 h. aprox.Personas destinatarias: personal político y técnico de los ayuntamientos vascos. \nEn el marco del Convenio de Colaboración entre el Departamento de Seguridad del Gobierno Vasco y la Asociación de municipios Vascos- EUDEL en materia de policía local\, dentro del grupo referido a Selección y Formación\, se ha venido trabajando de manera conjunta para ofrecer a los Ayuntamientos la opción de sumarse –con carácter voluntario- al segundo proceso selectivo unificado de ingreso en la categoría de agente de la escala básica de policía local. \nAl objeto de facilitar a los Ayuntamientos información detallada y de primera mano sobre dicho proceso de carácter voluntario (ventajas\, fórmula de adhesión y procedimiento\, calendario\, etc.)\, se invita a los y las responsables municipales a la sesión informativa organizada por EUDEL\, la Academia Vasca de Policía y Emergencias\, y el Departamento de Seguridad\, para el jueves 1 de marzo\, a partir de las 11.00 horas\, en el salón de actos de EUDEL en la calle Ercilla nº 13\, en Bilbao. \nPersonas destinatarias: La sesión informativa va dirigida tanto al personal político como técnico (Alcaldías y/o Concejalías\, Secretarías\, áreas de Seguridad/Policía Local\, Recursos Humanos\, etc.) que cada Ayuntamiento considere más oportuno que deba acudir. \nPONENTES: \n – Ager Izagirre\, EUDEL\, alcalde de Mungia– Rodrigo Gartzia\, EJ-GV\, Director de Coordinación de Seguridad– Aitor Lete\, EJ-GV\, Jefe Área Coordinación Policías Locales– Josu González\, Academia Vasca de Policía y Emergencias\, Jefe de personal y Régimen Jurídico \n\nTemas a tratar: \n•    Propuesta de Convenio de Encomienda de Gestión•    Propuesta de Bases del Procedimiento de Selección•    Cronograma del proceso \nConvocatoria
URL:https://noticias.eudel.eus/evento/1100-h-eudel-bilbao-c-ercilla-13-sesion-informativa-010318-policia-local-segundo-proceso-selectivo-unificado/
LOCATION:ARABA
CATEGORIES:General
END:VEVENT
BEGIN:VEVENT
DTSTART;TZID=Europe/Madrid:20180301T110000
DTEND;TZID=Europe/Madrid:20180301T130000
DTSTAMP:20260425T171435
CREATED:20180426T153541Z
LAST-MODIFIED:20180426T153541Z
UID:18111-1519902000-1519909200@noticias.eudel.eus
SUMMARY:11:00 h. Vitoria-Gasteiz. Consejo de Sanidad de Euskadi11:00. Vitoria-Gasteiz. Euskadiko Osasun Kontseilua.
DESCRIPTION:
URL:https://noticias.eudel.eus/evento/1100-h-vitoria-gasteiz-consejo-de-sanidad-de-euskadi/
LOCATION:ARABA
CATEGORIES:General
END:VEVENT
BEGIN:VEVENT
DTSTART;TZID=Europe/Madrid:20180305T110000
DTEND;TZID=Europe/Madrid:20180305T130000
DTSTAMP:20260425T171435
CREATED:20180426T153540Z
LAST-MODIFIED:20180426T153540Z
UID:18107-1520247600-1520254800@noticias.eudel.eus
SUMMARY:11:00 h. Vitoria-Gasteiz. Pleno de la Autoridad del Transporte de Euskadi.11:00. Euskadiko Garraio Agintaritzaren Osoko Bilkura.
DESCRIPTION:
URL:https://noticias.eudel.eus/evento/1100-h-vitoria-gasteiz-pleno-de-la-autoridad-del-transporte-de-euskadi/
LOCATION:ARABA
CATEGORIES:General
END:VEVENT
BEGIN:VEVENT
DTSTART;TZID=Europe/Madrid:20180305T160000
DTEND;TZID=Europe/Madrid:20180305T180000
DTSTAMP:20260425T171435
CREATED:20180426T153540Z
LAST-MODIFIED:20180426T153540Z
UID:18105-1520265600-1520272800@noticias.eudel.eus
SUMMARY:16:00 h. Vitoria-Gasteiz. HAKOBA KULTURA: Comisión Interinstitucional de la Cultura.16:00. Vitoria-Gasteiz. HAKOBA KULTURA: Kulturaren Erakunde Arteko Batzordea.
DESCRIPTION:
URL:https://noticias.eudel.eus/evento/1600-h-vitoria-gasteiz-hakoba-kultura-comision-interinstitucional-de-la-cultura/
LOCATION:ARABA
CATEGORIES:General
END:VEVENT
BEGIN:VEVENT
DTSTART;TZID=Europe/Madrid:20180306T080000
DTEND;TZID=Europe/Madrid:20180306T171500
DTSTAMP:20260425T171435
CREATED:20180426T153543Z
LAST-MODIFIED:20180426T153543Z
UID:18138-1520323200-1520356500@noticias.eudel.eus
SUMMARY:08:00 h. Irun Ficoba. UHINAK III. Congreso Transfronterizo sobre Cambio Climático y Litoral.08:00. Ficoban (Irunen). Klima Aldaketa eta Itsasertzari buruzko mugaz gaindiko III. Kongresua.
DESCRIPTION:UHINAK  III Congreso sobre cambio climático y litoral \nLos días 6 y 7 de marzo de 2018 se celebrará la tercera edición del Congreso UHINAK\, III\, Congreso transfronterizo sobre cambio climático y litoral\, en Ficoba\, Irun. Este Congreso está organizado por la Fundación Ficoba y AZTI Tecnalia. \nUhinak es un congreso transfronterizo en torno a cómo afectan el cambio climático y los fenómenos extremos al litoral. El objetivo de Uhinak es conocer las necesidades de los gestores ante el cambio climático y ver qué puede aportar el mundo científico para solucionarlas. Para ello\, Uhinak propone un enfoque multidisciplinar que reúne a las diferentes partes implicadas: personal científico\, técnico y administraciones. \nEl evento combinará 12 ponencias invitadas con otras 25 presentaciones orales y 8 posters. Puede consultar el programa completo en la página web: www.uhinak.com \nLas inscripciones antes del 31 de enero podrán beneficiarse de la tarifa de inscripción anticipada  Formulario inscripción
URL:https://noticias.eudel.eus/evento/0800-h-irun-ficoba-uhinak-iii-congreso-transfronterizo-sobre-cambio-climatico-y-litoral/
LOCATION:ARABA
CATEGORIES:General
END:VEVENT
BEGIN:VEVENT
DTSTART;TZID=Europe/Madrid:20180306T123000
DTEND;TZID=Europe/Madrid:20180306T140000
DTSTAMP:20260425T171435
CREATED:20180426T153540Z
LAST-MODIFIED:20180426T153540Z
UID:18104-1520339400-1520344800@noticias.eudel.eus
SUMMARY:12:30 h. Vitoria-Gasteiz. Consejo Asesor de Atención Primaria.12:30. Vitoria-Gasteiz. Lehen mailako arretako Aholku Kontseilua.
DESCRIPTION:
URL:https://noticias.eudel.eus/evento/1230-h-vitoria-gasteiz-consejo-asesor-de-atencion-primaria/
LOCATION:ARABA
CATEGORIES:General
END:VEVENT
BEGIN:VEVENT
DTSTART;TZID=Europe/Madrid:20180307T083000
DTEND;TZID=Europe/Madrid:20180307T173000
DTSTAMP:20260425T171435
CREATED:20180426T153543Z
LAST-MODIFIED:20180426T153543Z
UID:18137-1520411400-1520443800@noticias.eudel.eus
SUMMARY:08:30 h. Irun Ficoba. UHINAK III. Congreso Transfronterizo sobre Cambio Climático y Litoral08:30. Ficoban (Irunen). Klima Aldaketa eta Itsasertzari buruzko mugaz gaindiko III. Kongresua
DESCRIPTION:UHINAK  III Congreso sobre cambio climático y litoral \nLos días 6 y 7 de marzo de 2018 se celebrará la tercera edición del Congreso UHINAK\, III\, Congreso transfronterizo sobre cambio climático y litoral\, en Ficoba\, Irun. Este Congreso está organizado por la Fundación Ficoba y AZTI Tecnalia. \nUhinak es un congreso transfronterizo en torno a cómo afectan el cambio climático y los fenómenos extremos al litoral. El objetivo de Uhinak es conocer las necesidades de los gestores ante el cambio climático y ver qué puede aportar el mundo científico para solucionarlas. Para ello\, Uhinak propone un enfoque multidisciplinar que reúne a las diferentes partes implicadas: personal científico\, técnico y administraciones. \nEl evento combinará 12 ponencias invitadas con otras 25 presentaciones orales y 8 posters. Puede consultar el programa completo en la página web: www.uhinak.com \nLas inscripciones antes del 31 de enero podrán beneficiarse de la tarifa de inscripción anticipada  Formulario inscripción
URL:https://noticias.eudel.eus/evento/0830-h-irun-ficoba-uhinak-iii-congreso-transfronterizo-sobre-cambio-climatico-y-litoral/
LOCATION:ARABA
CATEGORIES:General
END:VEVENT
BEGIN:VEVENT
DTSTART;TZID=Europe/Madrid:20180307T153000
DTEND;TZID=Europe/Madrid:20180307T173000
DTSTAMP:20260425T171435
CREATED:20180426T153540Z
LAST-MODIFIED:20180426T153540Z
UID:18106-1520436600-1520443800@noticias.eudel.eus
SUMMARY:15:30 h. Vitoria-Gasteiz. Comisión Territorial de Álava de EUDEL.15:30. EUDEL Vitoria-Gasteiz. EUDELeko Arabako Lurralde Batzordea.
DESCRIPTION:
URL:https://noticias.eudel.eus/evento/1530-h-vitoria-gasteiz-comision-territorial-de-alava-de-eudel/
LOCATION:ARABA
CATEGORIES:General
END:VEVENT
BEGIN:VEVENT
DTSTART;TZID=Europe/Madrid:20180313T104500
DTEND;TZID=Europe/Madrid:20180313T143000
DTSTAMP:20260425T171435
CREATED:20180426T153540Z
LAST-MODIFIED:20180426T153540Z
UID:18103-1520937900-1520951400@noticias.eudel.eus
SUMMARY:10:45 h. EUDEL Bilbao. Comisión Ejecutiva de EUDEL.10:45. EUDEL Bilbao. EUDELeko Batzorde Eragilea.
DESCRIPTION:
URL:https://noticias.eudel.eus/evento/1045-h-eudel-bilbao-comision-ejecutiva-de-eudel-2/
LOCATION:ARABA
CATEGORIES:General
END:VEVENT
BEGIN:VEVENT
DTSTART;TZID=Europe/Madrid:20180314T093000
DTEND;TZID=Europe/Madrid:20180314T103000
DTSTAMP:20260425T171435
CREATED:20180426T153540Z
LAST-MODIFIED:20180426T153540Z
UID:18102-1521019800-1521023400@noticias.eudel.eus
SUMMARY:09:30 h. Vitoria-Gasteiz. Comisión de Ordenación del Territorio del País Vasco. 09:30. Vitoria-Gasteiz. Euskal Autonomia Erkidegoko Lurraldearen Antolamendurako Batzordea.
DESCRIPTION:
URL:https://noticias.eudel.eus/evento/0930-h-vitoria-gasteiz-comision-de-ordenacion-del-territorio-del-pais-vasco/
LOCATION:ARABA
CATEGORIES:General
END:VEVENT
BEGIN:VEVENT
DTSTART;TZID=Europe/Madrid:20180314T100000
DTEND;TZID=Europe/Madrid:20180314T120000
DTSTAMP:20260425T171435
CREATED:20180426T153540Z
LAST-MODIFIED:20180426T153540Z
UID:18099-1521021600-1521028800@noticias.eudel.eus
SUMMARY:10:00 h. Vitoria-Gasteiz. Consejo Vasco de Cooperación para el Desarrollo.10:00. Vitoria-Gasteiz. Garapenerako Lankidetzaren Euskal Kontseilua.
DESCRIPTION:
URL:https://noticias.eudel.eus/evento/1000-h-vitoria-gasteiz-consejo-vasco-de-cooperacion-para-el-desarrollo/
LOCATION:ARABA
CATEGORIES:General
END:VEVENT
BEGIN:VEVENT
DTSTART;TZID=Europe/Madrid:20180314T101500
DTEND;TZID=Europe/Madrid:20180314T104500
DTSTAMP:20260425T171435
CREATED:20180426T153540Z
LAST-MODIFIED:20180426T153540Z
UID:18101-1521022500-1521024300@noticias.eudel.eus
SUMMARY:10:15 h. Vitoria-Gasteiz. Comisión de Ordenación del Territorio del País Vasco. Sección Bizkaia.10:15. Vitoria-Gasteiz. Euskal Autonomia Erkidegoko Lurraldearen Antolamendurako Batzordea. Bizkaia.
DESCRIPTION:
URL:https://noticias.eudel.eus/evento/1015-h-vitoria-gasteiz-comision-de-ordenacion-del-territorio-del-pais-vasco-seccion-bizkaia/
LOCATION:ARABA
CATEGORIES:General
END:VEVENT
BEGIN:VEVENT
DTSTART;TZID=Europe/Madrid:20180314T104500
DTEND;TZID=Europe/Madrid:20180314T111500
DTSTAMP:20260425T171435
CREATED:20180426T153540Z
LAST-MODIFIED:20180426T153540Z
UID:18100-1521024300-1521026100@noticias.eudel.eus
SUMMARY:10:45 h. Vitoria-Gasteiz. Comisión de Ordenación del Territorio del País Vasco. Sección Gipuzkoa.10:45. Vitoria-Gasteiz. Euskal Autonomia Erkidegoko Lurraldearen Antolamendurako Batzordea. Gipuzkoa.
DESCRIPTION:
URL:https://noticias.eudel.eus/evento/1045-h-vitoria-gasteiz-comision-de-ordenacion-del-territorio-del-pais-vasco-seccion-gipuzkoa/
LOCATION:ARABA
CATEGORIES:General
END:VEVENT
BEGIN:VEVENT
DTSTART;TZID=Europe/Madrid:20180314T110000
DTEND;TZID=Europe/Madrid:20180314T120000
DTSTAMP:20260425T171435
CREATED:20180426T153540Z
LAST-MODIFIED:20180426T153540Z
UID:18098-1521025200-1521028800@noticias.eudel.eus
SUMMARY:11:00 h. Vitoria-Gasteiz. Comisión Urbanismo de Álava.11:00. Vitoria-Gasteiz. Arabako Hirigintza Batzordea.
DESCRIPTION:
URL:https://noticias.eudel.eus/evento/1100-h-vitoria-gasteiz-comision-urbanismo-de-alava/
LOCATION:ARABA
CATEGORIES:General
END:VEVENT
BEGIN:VEVENT
DTSTART;TZID=Europe/Madrid:20180315T130000
DTEND;TZID=Europe/Madrid:20180315T150000
DTSTAMP:20260425T171435
CREATED:20180426T153540Z
LAST-MODIFIED:20180426T153540Z
UID:18097-1521118800-1521126000@noticias.eudel.eus
SUMMARY:13:00 h. EUDEL Bilbao. Comisión Terrritorial de Bizkaia de EUDEL.13:00. EUDEL Bilbao. EUDELeko Bizkaiko Lurralde Batzordea.
DESCRIPTION:
URL:https://noticias.eudel.eus/evento/1300-h-eudel-bilbao-comision-terrritorial-de-bizkaia-de-eudel/
LOCATION:ARABA
CATEGORIES:General
END:VEVENT
BEGIN:VEVENT
DTSTART;TZID=Europe/Madrid:20180316T093000
DTEND;TZID=Europe/Madrid:20180316T133000
DTSTAMP:20260425T171435
CREATED:20180426T153539Z
LAST-MODIFIED:20180426T153539Z
UID:18093-1521192600-1521207000@noticias.eudel.eus
SUMMARY:09:30 h. Bilbao (Archivo Foral de Bizkaia). Seminario Vasco de Derecho Local. Primera sesión.09:30. Bilbao (Bizkaiko Foru Agiritegi Historikoa). Tokiko Zuzenbidearen Euskal Mintegia. Lehenengo saioa.
DESCRIPTION:
URL:https://noticias.eudel.eus/evento/0930-h-bilbao-archivo-foral-de-bizkaia-seminario-vasco-de-derecho-local-primera-sesion/
LOCATION:ARABA
CATEGORIES:General
END:VEVENT
BEGIN:VEVENT
DTSTART;TZID=Europe/Madrid:20180319T093000
DTEND;TZID=Europe/Madrid:20180319T110000
DTSTAMP:20260425T171435
CREATED:20180426T153539Z
LAST-MODIFIED:20180426T153539Z
UID:18088-1521451800-1521457200@noticias.eudel.eus
SUMMARY:09:30 h. Bilbao. Observatorio de Violencia de Género en Bizkaia.09:30. Bilbao. Bizkaiko Genero Indarkeriaren Behatokia.
DESCRIPTION:
URL:https://noticias.eudel.eus/evento/0930-h-bilbao-observatorio-de-violencia-de-genero-en-bizkaia/
LOCATION:ARABA
CATEGORIES:General
END:VEVENT
BEGIN:VEVENT
DTSTART;TZID=Europe/Madrid:20180320T100000
DTEND;TZID=Europe/Madrid:20180320T130000
DTSTAMP:20260425T171435
CREATED:20180426T153540Z
LAST-MODIFIED:20180426T153540Z
UID:18095-1521540000-1521550800@noticias.eudel.eus
SUMMARY:10:00 h. Donostia/San Sebastián\, Centro Koldo Mitxelena. Entrega del Premio europeo de Excelencia en Gobernanza a Ayuntamientos vascos.10:00. Donostia\, Koldo Mitxelena Kulturunean. Gobernantza Bikaintasuneko Europako zigilua emateko ekitaldia.
DESCRIPTION:20 de marzo\, Donostia/San Sebastián \nCeremonia de entrega del Sello ELoGE  \ny transferencia de experiencias \nEl próximo martes\, 20 de marzo\, a partir de las 10.00 horas\, en el centro Koldo Mitxelena de Donostia/San Sebastián\, se celebrará la ceremonia de entrega del Sello Europeo de Excelencia en Gobernanza Local ELoGE 2017 y se presentará el trabajo realizado por parte de cada uno de los 9 ayuntamientos del primer proyecto piloto en los municipios vascos.En este marco\, también está prevista una mesa de experiencias a la que están llamados a participar los y las responsables políticos de cada ayuntamiento (Alcalde/a o Concejal/a).De manera inmediata a la intervenciones\, dará comienzo propiamente la ceremonia de entrega del Sello\, conducida por Alina Tatarenko (CoE) y el Presidente de EUDEL\, Imanol Landa.
URL:https://noticias.eudel.eus/evento/1000-h-donostiasan-sebastian-centro-koldo-mitxelena-entrega-del-premio-europeo-de-excelencia-en-gobernanza-a-ayuntamientos-vascos/
LOCATION:ARABA
CATEGORIES:General
END:VEVENT
BEGIN:VEVENT
DTSTART;TZID=Europe/Madrid:20180321T100000
DTEND;TZID=Europe/Madrid:20180321T120000
DTSTAMP:20260425T171435
CREATED:20180426T153540Z
LAST-MODIFIED:20180426T153540Z
UID:18094-1521626400-1521633600@noticias.eudel.eus
SUMMARY:10:00 h. EUDEL Bilbao (Plaza del Ensache\, 5).  Jornada informativa sobre la iniciativa EUSKARALDIA o “Euskarak 365 egun”10:00. EUDEL Bilbao (Zabalgune plaza\, 5). Jardunaldi informatibora: EUSKARALDIA edo “Euskarak 365 egun”
DESCRIPTION:JORNADA INFORMATIVA 21/03/2018 \n \nEUSKARALDIA o “Euskarak 365 egun” \n \nEUDEL – Viceconsejería de Política Lingüística (EJ-GV) \nLa Viceconsejería de Política Lingüística del Gobierno Vasco\, en colaboración con EUDEL-Asociación de Municipios Vascos convoca a alcaldes\, alcaldesas y concejales\, concejalas de euskera de los Ayuntamientos vascos a una jornada informativa sobre la iniciativa EUSKARALDIA o “Euskarak 365 egun”\, para el miércoles 21 de marzo\, de 10:00 a 12:00 h.\, en el salón de actos de EUDEL en la plaza del Ensanche nº 5\, en Bilbao. \nEn la sesión participarán los representantes de EUDEL\, Aitor Aldasoro\, alcalde de Beasain y Koldo Iturbe\, concejal de Getxo\, y las ponentes serán Miren Dobaran\, Viceconsejera de Política Lingüística del Gobierno Vasco\, y Estibaliz Alkorta\, Directora de Promoción del Euskera. \nTemas a tratar:Ø Presentación de EUSKARALDIAØ Características Acuerdo 2018 HPS-TopaguneaØ Desarrollo de EUSKARALDIA a nivel localØ Inscripciones por municipios e individualesØ Hitos para 2018Ø Seminarios y talleresØ Difusión: estrategia publicitaria del GobiernoØ PreguntasØ Documentos sobre la iniciativa \nInscripción: Las personas interesadas en acudir a la sesión por parte de cada Ayuntamiento deberán inscribirse en el siguiente enlace: \nENLACE DE INSCRIPCION \n\n Día: miércoles 21 de marzo\n Lugar: Salón de actos EUDEL (plaza del Ensanche nº 5 BILBAO) \n Horario: 10:00-12.00 h. \n Personas destinatarias: Alcaldes/Alcaldesas y/o Concejales/Concejalas de Euskera.
URL:https://noticias.eudel.eus/evento/1000-h-eudel-bilbao-plaza-del-ensache-5-jornada-informativa-sobre-la-iniciativa-euskaraldia-o-euskarak-365-egun/
LOCATION:ARABA
CATEGORIES:General
END:VEVENT
BEGIN:VEVENT
DTSTART;TZID=Europe/Madrid:20180321T123000
DTEND;TZID=Europe/Madrid:20180321T150000
DTSTAMP:20260425T171435
CREATED:20180426T153540Z
LAST-MODIFIED:20180426T153540Z
UID:18096-1521635400-1521644400@noticias.eudel.eus
SUMMARY:12:30 h. Vitoria-Gasteiz\, Museo ARTIUM. Jornada informativa Álava-Servicio Ayuda a Domicilio.12:30. Vitoria-Gasteiz\, ARTIUM Museoa. Informazio jardunaldia Araba- Etxez Etxeko Laguntza Zerbitzuari.
DESCRIPTION:
URL:https://noticias.eudel.eus/evento/1230-h-vitoria-gasteiz-museo-artium-jornada-informativa-alava-servicio-ayuda-a-domicilio/
LOCATION:ARABA
CATEGORIES:General
END:VEVENT
BEGIN:VEVENT
DTSTART;TZID=Europe/Madrid:20180326T110000
DTEND;TZID=Europe/Madrid:20180326T130000
DTSTAMP:20260425T171435
CREATED:20180426T153539Z
LAST-MODIFIED:20180426T153539Z
UID:18087-1522062000-1522069200@noticias.eudel.eus
SUMMARY:10:00 h. Vitoria-Gasteiz. Consejo Vasco para la Promoción de la Accesibilidad.10:00. Vitoria-Gastez. Irisgarritasuna Sustatzeko Euskal Kontseilua.
DESCRIPTION:
URL:https://noticias.eudel.eus/evento/1000-h-vitoria-gasteiz-consejo-vasco-para-la-promocion-de-la-accesibilidad/
LOCATION:ARABA
CATEGORIES:General
END:VEVENT
BEGIN:VEVENT
DTSTART;TZID=Europe/Madrid:20180326T163000
DTEND;TZID=Europe/Madrid:20180326T180000
DTSTAMP:20260425T171435
CREATED:20180426T153539Z
LAST-MODIFIED:20180426T153539Z
UID:18086-1522081800-1522087200@noticias.eudel.eus
SUMMARY:16:30 h. Vitoria-Gasteiz. Consejo Vasco de Familia.16:30. Vitoria-Gasteiz. Familiaren Euskal Kontseilua.
DESCRIPTION:
URL:https://noticias.eudel.eus/evento/1630-h-vitoria-gasteiz-consejo-vasco-de-familia/
LOCATION:ARABA
CATEGORIES:General
END:VEVENT
BEGIN:VEVENT
DTSTART;TZID=Europe/Madrid:20180327T110000
DTEND;TZID=Europe/Madrid:20180327T190000
DTSTAMP:20260425T171435
CREATED:20180426T153539Z
LAST-MODIFIED:20180426T153539Z
UID:18085-1522148400-1522177200@noticias.eudel.eus
SUMMARY:11:00 h. Estrasburgo. Consejo de Poderes Locales y Regionales de Europa. CPLRE.11:00. Estrasburgo. Europako Tokiko Agintaritzen Kontseilua. CPLRE.
DESCRIPTION:
URL:https://noticias.eudel.eus/evento/1100-h-estrasburgo-consejo-de-poderes-locales-y-regionales-de-europa-cplre-2/
LOCATION:ARABA
CATEGORIES:General
END:VEVENT
BEGIN:VEVENT
DTSTART;TZID=Europe/Madrid:20180328T090000
DTEND;TZID=Europe/Madrid:20180328T190000
DTSTAMP:20260425T171435
CREATED:20180426T153539Z
LAST-MODIFIED:20180426T153539Z
UID:18084-1522227600-1522263600@noticias.eudel.eus
SUMMARY:11:00 h. Estrasburgo. Consejo de Poderes Locales y Regionales de Europa. CPLRE.11:00. Estrasburgo. Europako Tokiko Agintaritzen Kontseilua. CPLRE.
DESCRIPTION:
URL:https://noticias.eudel.eus/evento/1100-h-estrasburgo-consejo-de-poderes-locales-y-regionales-de-europa-cplre/
LOCATION:ARABA
CATEGORIES:General
END:VEVENT
END:VCALENDAR