BEGIN:VCALENDAR
VERSION:2.0
PRODID:-//EUDEL Noticias | Asociación de Municipios Vascos - ECPv6.5.1.3//NONSGML v1.0//EN
CALSCALE:GREGORIAN
METHOD:PUBLISH
X-ORIGINAL-URL:https://noticias.eudel.eus
X-WR-CALDESC:Eventos para EUDEL Noticias | Asociación de Municipios Vascos
REFRESH-INTERVAL;VALUE=DURATION:PT1H
X-Robots-Tag:noindex
X-PUBLISHED-TTL:PT1H
BEGIN:VTIMEZONE
TZID:Europe/Madrid
BEGIN:DAYLIGHT
TZOFFSETFROM:+0100
TZOFFSETTO:+0200
TZNAME:CEST
DTSTART:20180325T010000
END:DAYLIGHT
BEGIN:STANDARD
TZOFFSETFROM:+0200
TZOFFSETTO:+0100
TZNAME:CET
DTSTART:20181028T010000
END:STANDARD
END:VTIMEZONE
BEGIN:VEVENT
DTSTART;TZID=Europe/Madrid:20180410T163000
DTEND;TZID=Europe/Madrid:20180410T183000
DTSTAMP:20260425T155522
CREATED:20180426T153539Z
LAST-MODIFIED:20180426T153539Z
UID:18083-1523377800-1523385000@noticias.eudel.eus
SUMMARY:16:30 h. Bilbao. Consejo de Dirección GOGORA.16:30. Bilbao. GOGORA Zuzendaritza Batzordea.
DESCRIPTION:
URL:https://noticias.eudel.eus/evento/1630-h-bilbao-consejo-de-direccion-gogora/
LOCATION:ARABA
CATEGORIES:General
END:VEVENT
BEGIN:VEVENT
DTSTART;TZID=Europe/Madrid:20180411T090000
DTEND;TZID=Europe/Madrid:20180411T110000
DTSTAMP:20260425T155522
CREATED:20180426T153539Z
LAST-MODIFIED:20180426T153539Z
UID:18081-1523437200-1523444400@noticias.eudel.eus
SUMMARY:09:00 h. Donostia/San Sebastián. Comisión de Garantías de Admisión de Alumnos de Gipuzkoa.09:00. Donostia. Gipuzkoako Ikasleen Onarpen Bermerako Batzordea.
DESCRIPTION:
URL:https://noticias.eudel.eus/evento/0900-h-donostiasan-sebastian-comision-de-garantias-de-admision-de-alumnos-de-gipuzkoa/
LOCATION:ARABA
CATEGORIES:General
END:VEVENT
BEGIN:VEVENT
DTSTART;TZID=Europe/Madrid:20180411T153000
DTEND;TZID=Europe/Madrid:20180411T173000
DTSTAMP:20260425T155522
CREATED:20180426T153538Z
LAST-MODIFIED:20180426T153538Z
UID:18080-1523460600-1523467800@noticias.eudel.eus
SUMMARY:15:30 h. Bilbao. Comisión Permanente del Consejo Escolar de Euskadi.15:30. Bilbao. Euskadiko Eskola Kontseiluaren Batzorde Iraunkorra.
DESCRIPTION:
URL:https://noticias.eudel.eus/evento/1530-h-bilbao-comision-permanente-del-consejo-escolar-de-euskadi/
LOCATION:ARABA
CATEGORIES:General
END:VEVENT
BEGIN:VEVENT
DTSTART;TZID=Europe/Madrid:20180412T103000
DTEND;TZID=Europe/Madrid:20180412T113000
DTSTAMP:20260425T155522
CREATED:20180426T153539Z
LAST-MODIFIED:20180426T153539Z
UID:18082-1523529000-1523532600@noticias.eudel.eus
SUMMARY:10:30 h. Bilbao. Comisión de Garantías de Admisión de Alumnos de Bizkaia10:30. Bilbao. Bizkaiko Ikasleen Onarpen Bermerako Batzordea.
DESCRIPTION:
URL:https://noticias.eudel.eus/evento/1030-h-bilbao-comision-de-garantias-de-admision-de-alumnos-de-bizkaia/
LOCATION:ARABA
CATEGORIES:General
END:VEVENT
BEGIN:VEVENT
DTSTART;TZID=Europe/Madrid:20180417T161500
DTEND;TZID=Europe/Madrid:20180417T190000
DTSTAMP:20260425T155522
CREATED:20180426T153538Z
LAST-MODIFIED:20180426T153538Z
UID:18078-1523981700-1523991600@noticias.eudel.eus
SUMMARY:16:15 h. Ayuntamiento de Asteasu. Se reunen las Comisiones y Gpo Motor de Basqueskola Sarea.16:15. Asteasuko Udaletxea. Elkartuko dira Basqueskola Sarea osatzen duten Lantaldeak eta Talde Eragilea ere.
DESCRIPTION:
URL:https://noticias.eudel.eus/evento/1615-h-ayuntamiento-de-asteasu-se-reunen-las-comisiones-y-gpo-motor-de-basqueskola-sarea/
LOCATION:ARABA
CATEGORIES:General
END:VEVENT
BEGIN:VEVENT
DTSTART;TZID=Europe/Madrid:20180418T104500
DTEND;TZID=Europe/Madrid:20180418T150000
DTSTAMP:20260425T155522
CREATED:20180426T153538Z
LAST-MODIFIED:20180426T153538Z
UID:18079-1524048300-1524063600@noticias.eudel.eus
SUMMARY:10:45 h. EUDEL Bilbao. Comisión Ejecutiva de EUDEL.10:45. EUDEL Bilbao. EUDELeko Batzorde Eragilea.
DESCRIPTION:
URL:https://noticias.eudel.eus/evento/1045-h-eudel-bilbao-comision-ejecutiva-de-eudel/
LOCATION:ARABA
CATEGORIES:General
END:VEVENT
BEGIN:VEVENT
DTSTART;TZID=Europe/Madrid:20180419T093000
DTEND;TZID=Europe/Madrid:20180419T113000
DTSTAMP:20260425T155522
CREATED:20180426T153537Z
LAST-MODIFIED:20180426T153537Z
UID:18075-1524130200-1524137400@noticias.eudel.eus
SUMMARY:09:30 h. Vitoria-Gasteiz. Comisión de Ordenación del Territorio del País Vasco. Sección Bizkaia.09:30. Vitoria-Gasteiz. Euskal Autonomia Erkidegoko Lurraldearen Antolamendurako Batzordea. Bizkaia.
DESCRIPTION:
URL:https://noticias.eudel.eus/evento/0930-h-vitoria-gasteiz-comision-de-ordenacion-del-territorio-del-pais-vasco-seccion-bizkaia/
LOCATION:ARABA
CATEGORIES:General
END:VEVENT
BEGIN:VEVENT
DTSTART;TZID=Europe/Madrid:20180419T100000
DTEND;TZID=Europe/Madrid:20180419T120000
DTSTAMP:20260425T155522
CREATED:20180426T153537Z
LAST-MODIFIED:20180426T153537Z
UID:18077-1524132000-1524139200@noticias.eudel.eus
SUMMARY:10:00 h. Vitoria-Gasteiz. Asamblea General Elkarkidetza.10:00. Vitoria-Gasteiz. Elkakidetzako Batzar Nagusia.
DESCRIPTION:
URL:https://noticias.eudel.eus/evento/1000-h-vitoria-gasteiz-asamblea-general-elkarkidetza/
LOCATION:ARABA
CATEGORIES:General
END:VEVENT
BEGIN:VEVENT
DTSTART;TZID=Europe/Madrid:20180419T130000
DTEND;TZID=Europe/Madrid:20180419T140000
DTSTAMP:20260425T155522
CREATED:20180426T153537Z
LAST-MODIFIED:20180426T153537Z
UID:18076-1524142800-1524146400@noticias.eudel.eus
SUMMARY:10:00 h. Vitoria-Gasteiz. Junta de Gobierno de Elkarkidetza.10:00. Vitoria-Gasteiz. Elkarkidetza. Gobernu Batzordea.
DESCRIPTION:
URL:https://noticias.eudel.eus/evento/1000-h-vitoria-gasteiz-junta-de-gobierno-de-elkarkidetza/
LOCATION:ARABA
CATEGORIES:General
END:VEVENT
BEGIN:VEVENT
DTSTART;TZID=Europe/Madrid:20180419T163000
DTEND;TZID=Europe/Madrid:20180419T173000
DTSTAMP:20260425T155522
CREATED:20180426T153537Z
LAST-MODIFIED:20180426T153537Z
UID:18074-1524155400-1524159000@noticias.eudel.eus
SUMMARY:16:30 h. Bilbao. Comisión Permanente del Consejo Escolar de Euskadi.16:30. Bilbao. Euskadiko Eskola Kontseiluaren Batzorde Iraunkorra.
DESCRIPTION:
URL:https://noticias.eudel.eus/evento/1630-h-bilbao-comision-permanente-del-consejo-escolar-de-euskadi/
LOCATION:ARABA
CATEGORIES:General
END:VEVENT
BEGIN:VEVENT
DTSTART;TZID=Europe/Madrid:20180420T093000
DTEND;TZID=Europe/Madrid:20180420T133000
DTSTAMP:20260425T155522
CREATED:20180426T153539Z
LAST-MODIFIED:20180426T153539Z
UID:18092-1524216600-1524231000@noticias.eudel.eus
SUMMARY:09:30 h. Bilbao (Archivo Foral de Bizkaia). Seminario Vasco de Derecho Local. Segunda sesión.09:30. Bilbao (Bizkaiko Foru Agiritegi Historikoa). Tokiko Zuzenbidearen Euskal Mintegia. Bigarren saioa.
DESCRIPTION:
URL:https://noticias.eudel.eus/evento/0930-h-bilbao-archivo-foral-de-bizkaia-seminario-vasco-de-derecho-local-segunda-sesion/
LOCATION:ARABA
CATEGORIES:General
END:VEVENT
BEGIN:VEVENT
DTSTART;TZID=Europe/Madrid:20180425T160000
DTEND;TZID=Europe/Madrid:20180425T180000
DTSTAMP:20260425T155522
CREATED:20180426T153536Z
LAST-MODIFIED:20180426T153536Z
UID:18073-1524672000-1524679200@noticias.eudel.eus
SUMMARY:16:00 h. Bilbao. Comisión Permanente del Consejo Escolar de Euskadi.16:00. Bilbao. Euskadiko Eskola Kontseiluaren Batzorde Iraunkorra.
DESCRIPTION:
URL:https://noticias.eudel.eus/evento/1600-h-bilbao-comision-permanente-del-consejo-escolar-de-euskadi/
LOCATION:ARABA
CATEGORIES:General
END:VEVENT
END:VCALENDAR